BEGIN:VCALENDAR
VERSION:2.0
PRODID:-//Most Holy Eucharist - ECPv6.13.2.1//NONSGML v1.0//EN
CALSCALE:GREGORIAN
METHOD:PUBLISH
X-WR-CALNAME:Most Holy Eucharist
X-ORIGINAL-URL:https://www.mheparish.org
X-WR-CALDESC:Events for Most Holy Eucharist
REFRESH-INTERVAL;VALUE=DURATION:PT1H
X-Robots-Tag:noindex
X-PUBLISHED-TTL:PT1H
BEGIN:VTIMEZONE
TZID:America/Chicago
BEGIN:DAYLIGHT
TZOFFSETFROM:-0600
TZOFFSETTO:-0500
TZNAME:CDT
DTSTART:20250309T080000
END:DAYLIGHT
BEGIN:STANDARD
TZOFFSETFROM:-0500
TZOFFSETTO:-0600
TZNAME:CST
DTSTART:20251102T070000
END:STANDARD
END:VTIMEZONE
BEGIN:VEVENT
DTSTART;TZID=America/Chicago:20251209T083000
DTEND;TZID=America/Chicago:20251209T090000
DTSTAMP:20260423T070011
CREATED:20250710T203706Z
LAST-MODIFIED:20250710T203708Z
UID:10007317-1765269000-1765270800@www.mheparish.org
SUMMARY:Daily Mass at St. Pat's
DESCRIPTION:
URL:https://www.mheparish.org/calendar/daily-mass-at-st-pats-2/2025-12-09/
LOCATION:St. Patrick Church of Merna\, 1001 N Towanda Barnes Rd\, Bloomington\, Illinois\, 61705\, United States
END:VEVENT
BEGIN:VEVENT
DTSTART;TZID=America/Chicago:20251209T090000
DTEND;TZID=America/Chicago:20251209T203000
DTSTAMP:20260423T070011
CREATED:20250710T204758Z
LAST-MODIFIED:20250710T204800Z
UID:10008895-1765270800-1765312200@www.mheparish.org
SUMMARY:Adoration at St. Pat's
DESCRIPTION:
URL:https://www.mheparish.org/calendar/adoration-at-st-pats/2025-12-09/
LOCATION:St. Patrick Church of Merna\, 1001 N Towanda Barnes Rd\, Bloomington\, Illinois\, 61705\, United States
END:VEVENT
BEGIN:VEVENT
DTSTART;TZID=America/Chicago:20251209T170000
DTEND;TZID=America/Chicago:20251209T180000
DTSTAMP:20260423T070011
CREATED:20250812T195449Z
LAST-MODIFIED:20250812T195450Z
UID:10011098-1765299600-1765303200@www.mheparish.org
SUMMARY:Religious Ed Grades 1-5
DESCRIPTION:Religious Education Classes for Grades 1-5
URL:https://www.mheparish.org/calendar/religious-ed-grades-1-5/2025-12-09/
LOCATION:St. Patrick Church of Merna\, 1001 N Towanda Barnes Rd\, Bloomington\, Illinois\, 61705\, United States
END:VEVENT
END:VCALENDAR