BEGIN:VCALENDAR
VERSION:2.0
PRODID:-//Most Holy Eucharist - ECPv6.13.2.1//NONSGML v1.0//EN
CALSCALE:GREGORIAN
METHOD:PUBLISH
X-WR-CALNAME:Most Holy Eucharist
X-ORIGINAL-URL:https://www.mheparish.org
X-WR-CALDESC:Events for Most Holy Eucharist
REFRESH-INTERVAL;VALUE=DURATION:PT1H
X-Robots-Tag:noindex
X-PUBLISHED-TTL:PT1H
BEGIN:VTIMEZONE
TZID:America/Chicago
BEGIN:DAYLIGHT
TZOFFSETFROM:-0600
TZOFFSETTO:-0500
TZNAME:CDT
DTSTART:20250309T080000
END:DAYLIGHT
BEGIN:STANDARD
TZOFFSETFROM:-0500
TZOFFSETTO:-0600
TZNAME:CST
DTSTART:20251102T070000
END:STANDARD
END:VTIMEZONE
BEGIN:VEVENT
DTSTART;TZID=America/Chicago:20251210T070000
DTEND;TZID=America/Chicago:20251210T073000
DTSTAMP:20260425T055151
CREATED:20250710T203843Z
LAST-MODIFIED:20250710T203845Z
UID:10007580-1765350000-1765351800@www.mheparish.org
SUMMARY:Daily Mass at St. Pat's
DESCRIPTION:
URL:https://www.mheparish.org/calendar/daily-mass-at-st-pats-3/2025-12-10/
LOCATION:St. Patrick Church of Merna\, 1001 N Towanda Barnes Rd\, Bloomington\, Illinois\, 61705\, United States
END:VEVENT
BEGIN:VEVENT
DTSTART;TZID=America/Chicago:20251210T073000
DTEND;TZID=America/Chicago:20251210T203000
DTSTAMP:20260425T055151
CREATED:20250710T204901Z
LAST-MODIFIED:20250710T204903Z
UID:10009158-1765351800-1765398600@www.mheparish.org
SUMMARY:Adoration at St. Pat's
DESCRIPTION:
URL:https://www.mheparish.org/calendar/adoration-at-st-pats-2/2025-12-10/
LOCATION:St. Patrick Church of Merna\, 1001 N Towanda Barnes Rd\, Bloomington\, Illinois\, 61705\, United States
END:VEVENT
BEGIN:VEVENT
DTSTART;TZID=America/Chicago:20251210T173000
DTEND;TZID=America/Chicago:20251210T180000
DTSTAMP:20260425T055151
CREATED:20250710T203938Z
LAST-MODIFIED:20250710T203939Z
UID:10007843-1765387800-1765389600@www.mheparish.org
SUMMARY:Daily Mass at St. Mary's
DESCRIPTION:
URL:https://www.mheparish.org/calendar/daily-mass-at-st-marys/2025-12-10/
LOCATION:St. Patrick Church of Merna\, 1001 N Towanda Barnes Rd\, Bloomington\, Illinois\, 61705\, United States
END:VEVENT
BEGIN:VEVENT
DTSTART;TZID=America/Chicago:20251210T173000
DTEND;TZID=America/Chicago:20251210T183000
DTSTAMP:20260425T055151
CREATED:20250812T194234Z
LAST-MODIFIED:20250812T194235Z
UID:10011068-1765387800-1765391400@www.mheparish.org
SUMMARY:Religious Ed Grades 1-5
DESCRIPTION:Religious Education classes for Grades 1-5
URL:https://www.mheparish.org/calendar/religious-ed-grades-1-5-2/2025-12-10/
LOCATION:St. Patrick Church of Merna\, 1001 N Towanda Barnes Rd\, Bloomington\, Illinois\, 61705\, United States
END:VEVENT
BEGIN:VEVENT
DTSTART;TZID=America/Chicago:20251210T183000
DTEND;TZID=America/Chicago:20251210T193000
DTSTAMP:20260425T055151
CREATED:20250716T195814Z
LAST-MODIFIED:20250716T195816Z
UID:10010222-1765391400-1765395000@www.mheparish.org
SUMMARY:Centering Prayer
DESCRIPTION:Room 11
URL:https://www.mheparish.org/calendar/centering-prayer-5/2025-12-10/
LOCATION:St. Patrick Church of Merna\, 1001 N Towanda Barnes Rd\, Bloomington\, Illinois\, 61705\, United States
END:VEVENT
BEGIN:VEVENT
DTSTART;TZID=America/Chicago:20251210T183000
DTEND;TZID=America/Chicago:20251210T200000
DTSTAMP:20260425T055151
CREATED:20250923T180317Z
LAST-MODIFIED:20250923T181333Z
UID:10011166-1765391400-1765396800@www.mheparish.org
SUMMARY:Religious Ed - Confirm2
DESCRIPTION:Confirm2 class meets at St. Patrick Church of Merna
URL:https://www.mheparish.org/calendar/religious-ed-confirm2/2025-12-10/
LOCATION:St. Patrick Church of Merna\, 1001 N Towanda Barnes Rd\, Bloomington\, Illinois\, 61705\, United States
END:VEVENT
END:VCALENDAR