BEGIN:VCALENDAR
VERSION:2.0
PRODID:-//Most Holy Eucharist - ECPv6.13.2.1//NONSGML v1.0//EN
CALSCALE:GREGORIAN
METHOD:PUBLISH
X-ORIGINAL-URL:https://www.mheparish.org
X-WR-CALDESC:Events for Most Holy Eucharist
REFRESH-INTERVAL;VALUE=DURATION:PT1H
X-Robots-Tag:noindex
X-PUBLISHED-TTL:PT1H
BEGIN:VTIMEZONE
TZID:America/Chicago
BEGIN:DAYLIGHT
TZOFFSETFROM:-0600
TZOFFSETTO:-0500
TZNAME:CDT
DTSTART:20250309T080000
END:DAYLIGHT
BEGIN:STANDARD
TZOFFSETFROM:-0500
TZOFFSETTO:-0600
TZNAME:CST
DTSTART:20251102T070000
END:STANDARD
END:VTIMEZONE
BEGIN:VEVENT
DTSTART;TZID=America/Chicago:20250730T070000
DTEND;TZID=America/Chicago:20250730T073000
DTSTAMP:20260419T191730
CREATED:20250710T203843Z
LAST-MODIFIED:20250710T203845Z
UID:10007561-1753858800-1753860600@www.mheparish.org
SUMMARY:Daily Mass at St. Pat's
DESCRIPTION:
URL:https://www.mheparish.org/calendar/daily-mass-at-st-pats-3/2025-07-30/
LOCATION:St. Patrick Church of Merna\, 1001 N Towanda Barnes Rd\, Bloomington\, Illinois\, 61705\, United States
END:VEVENT
BEGIN:VEVENT
DTSTART;TZID=America/Chicago:20250730T073000
DTEND;TZID=America/Chicago:20250730T203000
DTSTAMP:20260419T191730
CREATED:20250710T204901Z
LAST-MODIFIED:20250710T204903Z
UID:10009139-1753860600-1753907400@www.mheparish.org
SUMMARY:Adoration at St. Pat's
DESCRIPTION:
URL:https://www.mheparish.org/calendar/adoration-at-st-pats-2/2025-07-30/
LOCATION:St. Patrick Church of Merna\, 1001 N Towanda Barnes Rd\, Bloomington\, Illinois\, 61705\, United States
END:VEVENT
BEGIN:VEVENT
DTSTART;TZID=America/Chicago:20250730T173000
DTEND;TZID=America/Chicago:20250730T180000
DTSTAMP:20260419T191730
CREATED:20250710T203938Z
LAST-MODIFIED:20250710T203939Z
UID:10007824-1753896600-1753898400@www.mheparish.org
SUMMARY:Daily Mass at St. Mary's
DESCRIPTION:
URL:https://www.mheparish.org/calendar/daily-mass-at-st-marys/2025-07-30/
LOCATION:St. Patrick Church of Merna\, 1001 N Towanda Barnes Rd\, Bloomington\, Illinois\, 61705\, United States
END:VEVENT
BEGIN:VEVENT
DTSTART;TZID=America/Chicago:20250730T183000
DTEND;TZID=America/Chicago:20250730T193000
DTSTAMP:20260419T191730
CREATED:20250716T195814Z
LAST-MODIFIED:20250716T195816Z
UID:10010203-1753900200-1753903800@www.mheparish.org
SUMMARY:Centering Prayer
DESCRIPTION:Room 11
URL:https://www.mheparish.org/calendar/centering-prayer-5/2025-07-30/
LOCATION:St. Patrick Church of Merna\, 1001 N Towanda Barnes Rd\, Bloomington\, Illinois\, 61705\, United States
END:VEVENT
BEGIN:VEVENT
DTSTART;TZID=America/Chicago:20250731T083000
DTEND;TZID=America/Chicago:20250731T090000
DTSTAMP:20260419T191730
CREATED:20250710T204035Z
LAST-MODIFIED:20250710T204037Z
UID:10008087-1753950600-1753952400@www.mheparish.org
SUMMARY:Daily Mass at St. Pat's
DESCRIPTION:
URL:https://www.mheparish.org/calendar/daily-mass-at-st-pats-4/2025-07-31/
LOCATION:St. Patrick Church of Merna\, 1001 N Towanda Barnes Rd\, Bloomington\, Illinois\, 61705\, United States
END:VEVENT
BEGIN:VEVENT
DTSTART;TZID=America/Chicago:20250801T070000
DTEND;TZID=America/Chicago:20250801T073000
DTSTAMP:20260419T191731
CREATED:20250710T204138Z
LAST-MODIFIED:20250710T204140Z
UID:10008348-1754031600-1754033400@www.mheparish.org
SUMMARY:Daily Mass at St. Pat's
DESCRIPTION:
URL:https://www.mheparish.org/calendar/daily-mass-at-st-pats-5/2025-08-01/
LOCATION:St. Patrick Church of Merna\, 1001 N Towanda Barnes Rd\, Bloomington\, Illinois\, 61705\, United States
END:VEVENT
BEGIN:VEVENT
DTSTART;TZID=America/Chicago:20250801T073000
DTEND;TZID=America/Chicago:20250801T163000
DTSTAMP:20260419T191731
CREATED:20250710T205001Z
LAST-MODIFIED:20250710T205002Z
UID:10009401-1754033400-1754065800@www.mheparish.org
SUMMARY:Adoration at St. Pat's
DESCRIPTION:
URL:https://www.mheparish.org/calendar/adoration-at-st-pats-3/2025-08-01/
LOCATION:St. Patrick Church of Merna\, 1001 N Towanda Barnes Rd\, Bloomington\, Illinois\, 61705\, United States
END:VEVENT
BEGIN:VEVENT
DTSTART;TZID=America/Chicago:20250801T120000
DTEND;TZID=America/Chicago:20250801T160000
DTSTAMP:20260419T191731
CREATED:20250710T205111Z
LAST-MODIFIED:20250710T205113Z
UID:10009662-1754049600-1754064000@www.mheparish.org
SUMMARY:Confessions at St. Pat's
DESCRIPTION:
URL:https://www.mheparish.org/calendar/confessions-at-st-pats/2025-08-01/
LOCATION:St. Patrick Church of Merna\, 1001 N Towanda Barnes Rd\, Bloomington\, Illinois\, 61705\, United States
END:VEVENT
BEGIN:VEVENT
DTSTART;TZID=America/Chicago:20250801T170000
DTEND;TZID=America/Chicago:20250801T173000
DTSTAMP:20260419T191731
CREATED:20250710T204238Z
LAST-MODIFIED:20250710T204239Z
UID:10008609-1754067600-1754069400@www.mheparish.org
SUMMARY:Daily Mass at St. Pat's
DESCRIPTION:
URL:https://www.mheparish.org/calendar/daily-mass-at-st-pats-6/2025-08-01/
LOCATION:St. Patrick Church of Merna\, 1001 N Towanda Barnes Rd\, Bloomington\, Illinois\, 61705\, United States
END:VEVENT
BEGIN:VEVENT
DTSTART;TZID=America/Chicago:20250802T090000
DTEND;TZID=America/Chicago:20250802T100000
DTSTAMP:20260419T191731
CREATED:20250710T205219Z
LAST-MODIFIED:20250710T205253Z
UID:10009923-1754125200-1754128800@www.mheparish.org
SUMMARY:Confessions at St. Pat's
DESCRIPTION:
URL:https://www.mheparish.org/calendar/confessions-at-st-pats-2/2025-08-02/
LOCATION:St. Patrick Church of Merna\, 1001 N Towanda Barnes Rd\, Bloomington\, Illinois\, 61705\, United States
END:VEVENT
BEGIN:VEVENT
DTSTART;TZID=America/Chicago:20250802T160000
DTEND;TZID=America/Chicago:20250802T170000
DTSTAMP:20260419T191731
CREATED:20250710T202725Z
LAST-MODIFIED:20250710T203048Z
UID:10005463-1754150400-1754154000@www.mheparish.org
SUMMARY:Weekend Mass at St. Pat's
DESCRIPTION:
URL:https://www.mheparish.org/calendar/764/2025-08-02/
LOCATION:St. Patrick Church of Merna\, 1001 N Towanda Barnes Rd\, Bloomington\, Illinois\, 61705\, United States
END:VEVENT
BEGIN:VEVENT
DTSTART;TZID=America/Chicago:20250802T163000
DTEND;TZID=America/Chicago:20250802T173000
DTSTAMP:20260419T191731
CREATED:20250710T203412Z
LAST-MODIFIED:20250710T203414Z
UID:10006512-1754152200-1754155800@www.mheparish.org
SUMMARY:Weekend Mass at St. Mary's
DESCRIPTION:
URL:https://www.mheparish.org/calendar/weekend-mass-at-st-marys/2025-08-02/
LOCATION:St. Mary Church in Downs\, 108 E Washington St\, Downs\, Illinois\, 61736\, United States
END:VEVENT
BEGIN:VEVENT
DTSTART;TZID=America/Chicago:20250803T070000
DTEND;TZID=America/Chicago:20250803T080000
DTSTAMP:20260419T191731
CREATED:20250710T202956Z
LAST-MODIFIED:20250710T203121Z
UID:10005724-1754204400-1754208000@www.mheparish.org
SUMMARY:Weekend Mass at St. Pat's
DESCRIPTION:
URL:https://www.mheparish.org/calendar/weekend-mass-at-st-pats/2025-08-03/
LOCATION:St. Patrick Church of Merna\, 1001 N Towanda Barnes Rd\, Bloomington\, Illinois\, 61705\, United States
END:VEVENT
BEGIN:VEVENT
DTSTART;TZID=America/Chicago:20250803T083000
DTEND;TZID=America/Chicago:20250803T093000
DTSTAMP:20260419T191731
CREATED:20250710T203508Z
LAST-MODIFIED:20250710T203509Z
UID:10006774-1754209800-1754213400@www.mheparish.org
SUMMARY:Weekend Mass at St. Mary's
DESCRIPTION:
URL:https://www.mheparish.org/calendar/weekend-mass-at-st-marys-2/2025-08-03/
LOCATION:St. Mary Church in Downs\, 108 E Washington St\, Downs\, Illinois\, 61736\, United States
END:VEVENT
BEGIN:VEVENT
DTSTART;TZID=America/Chicago:20250803T090000
DTEND;TZID=America/Chicago:20250803T100000
DTSTAMP:20260419T191731
CREATED:20250710T203223Z
LAST-MODIFIED:20250710T203225Z
UID:10005988-1754211600-1754215200@www.mheparish.org
SUMMARY:Weekend Mass at St. Pat's
DESCRIPTION:
URL:https://www.mheparish.org/calendar/weekend-mass-at-st-pats-2/2025-08-03/
LOCATION:St. Patrick Church of Merna\, 1001 N Towanda Barnes Rd\, Bloomington\, Illinois\, 61705\, United States
END:VEVENT
BEGIN:VEVENT
DTSTART;TZID=America/Chicago:20250803T110000
DTEND;TZID=America/Chicago:20250803T120000
DTSTAMP:20260419T191731
CREATED:20250710T203319Z
LAST-MODIFIED:20250710T203320Z
UID:10006250-1754218800-1754222400@www.mheparish.org
SUMMARY:Weekend Mass at St. Pat's
DESCRIPTION:
URL:https://www.mheparish.org/calendar/weekend-mass-at-st-pats-3/2025-08-03/
LOCATION:St. Patrick Church of Merna\, 1001 N Towanda Barnes Rd\, Bloomington\, Illinois\, 61705\, United States
END:VEVENT
BEGIN:VEVENT
DTSTART;TZID=America/Chicago:20250804T070000
DTEND;TZID=America/Chicago:20250804T073000
DTSTAMP:20260419T191731
CREATED:20250710T203610Z
LAST-MODIFIED:20250710T203747Z
UID:10007036-1754290800-1754292600@www.mheparish.org
SUMMARY:Daily Mass at St. Pat's
DESCRIPTION:
URL:https://www.mheparish.org/calendar/daily-mass-at-st-pats/2025-08-04/
LOCATION:St. Patrick Church of Merna\, 1001 N Towanda Barnes Rd\, Bloomington\, Illinois\, 61705\, United States
END:VEVENT
BEGIN:VEVENT
DTSTART;TZID=America/Chicago:20250804T113000
DTEND;TZID=America/Chicago:20250804T123000
DTSTAMP:20260419T191731
CREATED:20250716T195915Z
LAST-MODIFIED:20250716T195917Z
UID:10010462-1754307000-1754310600@www.mheparish.org
SUMMARY:Centering Prayer
DESCRIPTION:Room 11
URL:https://www.mheparish.org/calendar/centering-prayer-6/2025-08-04/
LOCATION:St. Patrick Church of Merna\, 1001 N Towanda Barnes Rd\, Bloomington\, Illinois\, 61705\, United States
END:VEVENT
BEGIN:VEVENT
DTSTART;TZID=America/Chicago:20250804T183000
DTEND;TZID=America/Chicago:20250804T200000
DTSTAMP:20260419T191731
CREATED:20250716T200007Z
LAST-MODIFIED:20250716T200009Z
UID:10010721-1754332200-1754337600@www.mheparish.org
SUMMARY:Baptism Prep Class
DESCRIPTION:Library
URL:https://www.mheparish.org/calendar/baptism-prep-class/
LOCATION:St. Patrick Church of Merna\, 1001 N Towanda Barnes Rd\, Bloomington\, Illinois\, 61705\, United States
END:VEVENT
BEGIN:VEVENT
DTSTART;TZID=America/Chicago:20250805T083000
DTEND;TZID=America/Chicago:20250805T090000
DTSTAMP:20260419T191731
CREATED:20250710T203706Z
LAST-MODIFIED:20250710T203708Z
UID:10007299-1754382600-1754384400@www.mheparish.org
SUMMARY:Daily Mass at St. Pat's
DESCRIPTION:
URL:https://www.mheparish.org/calendar/daily-mass-at-st-pats-2/2025-08-05/
LOCATION:St. Patrick Church of Merna\, 1001 N Towanda Barnes Rd\, Bloomington\, Illinois\, 61705\, United States
END:VEVENT
BEGIN:VEVENT
DTSTART;TZID=America/Chicago:20250805T090000
DTEND;TZID=America/Chicago:20250805T203000
DTSTAMP:20260419T191731
CREATED:20250710T204758Z
LAST-MODIFIED:20250710T204800Z
UID:10008877-1754384400-1754425800@www.mheparish.org
SUMMARY:Adoration at St. Pat's
DESCRIPTION:
URL:https://www.mheparish.org/calendar/adoration-at-st-pats/2025-08-05/
LOCATION:St. Patrick Church of Merna\, 1001 N Towanda Barnes Rd\, Bloomington\, Illinois\, 61705\, United States
END:VEVENT
BEGIN:VEVENT
DTSTART;TZID=America/Chicago:20250805T183000
DTEND;TZID=America/Chicago:20250805T203000
DTSTAMP:20260419T191731
CREATED:20250716T195227Z
LAST-MODIFIED:20250716T195228Z
UID:10010192-1754418600-1754425800@www.mheparish.org
SUMMARY:The Chosen Season 5 Watch and Chat
DESCRIPTION:Please register for this event HERE.
URL:https://www.mheparish.org/calendar/the-chosen-season-5-watch-and-chat/2025-08-05/
LOCATION:St. Patrick Church of Merna\, 1001 N Towanda Barnes Rd\, Bloomington\, Illinois\, 61705\, United States
END:VEVENT
BEGIN:VEVENT
DTSTART;TZID=America/Chicago:20250806T070000
DTEND;TZID=America/Chicago:20250806T073000
DTSTAMP:20260419T191731
CREATED:20250710T203843Z
LAST-MODIFIED:20250710T203845Z
UID:10007562-1754463600-1754465400@www.mheparish.org
SUMMARY:Daily Mass at St. Pat's
DESCRIPTION:
URL:https://www.mheparish.org/calendar/daily-mass-at-st-pats-3/2025-08-06/
LOCATION:St. Patrick Church of Merna\, 1001 N Towanda Barnes Rd\, Bloomington\, Illinois\, 61705\, United States
END:VEVENT
BEGIN:VEVENT
DTSTART;TZID=America/Chicago:20250806T073000
DTEND;TZID=America/Chicago:20250806T203000
DTSTAMP:20260419T191731
CREATED:20250710T204901Z
LAST-MODIFIED:20250710T204903Z
UID:10009140-1754465400-1754512200@www.mheparish.org
SUMMARY:Adoration at St. Pat's
DESCRIPTION:
URL:https://www.mheparish.org/calendar/adoration-at-st-pats-2/2025-08-06/
LOCATION:St. Patrick Church of Merna\, 1001 N Towanda Barnes Rd\, Bloomington\, Illinois\, 61705\, United States
END:VEVENT
BEGIN:VEVENT
DTSTART;TZID=America/Chicago:20250806T173000
DTEND;TZID=America/Chicago:20250806T180000
DTSTAMP:20260419T191731
CREATED:20250710T203938Z
LAST-MODIFIED:20250710T203939Z
UID:10007825-1754501400-1754503200@www.mheparish.org
SUMMARY:Daily Mass at St. Mary's
DESCRIPTION:
URL:https://www.mheparish.org/calendar/daily-mass-at-st-marys/2025-08-06/
LOCATION:St. Patrick Church of Merna\, 1001 N Towanda Barnes Rd\, Bloomington\, Illinois\, 61705\, United States
END:VEVENT
BEGIN:VEVENT
DTSTART;TZID=America/Chicago:20250806T183000
DTEND;TZID=America/Chicago:20250806T193000
DTSTAMP:20260419T191731
CREATED:20250716T195814Z
LAST-MODIFIED:20250716T195816Z
UID:10010204-1754505000-1754508600@www.mheparish.org
SUMMARY:Centering Prayer
DESCRIPTION:Room 11
URL:https://www.mheparish.org/calendar/centering-prayer-5/2025-08-06/
LOCATION:St. Patrick Church of Merna\, 1001 N Towanda Barnes Rd\, Bloomington\, Illinois\, 61705\, United States
END:VEVENT
BEGIN:VEVENT
DTSTART;TZID=America/Chicago:20250807T083000
DTEND;TZID=America/Chicago:20250807T090000
DTSTAMP:20260419T191731
CREATED:20250710T204035Z
LAST-MODIFIED:20250710T204037Z
UID:10008088-1754555400-1754557200@www.mheparish.org
SUMMARY:Daily Mass at St. Pat's
DESCRIPTION:
URL:https://www.mheparish.org/calendar/daily-mass-at-st-pats-4/2025-08-07/
LOCATION:St. Patrick Church of Merna\, 1001 N Towanda Barnes Rd\, Bloomington\, Illinois\, 61705\, United States
END:VEVENT
BEGIN:VEVENT
DTSTART;TZID=America/Chicago:20250807T180000
DTEND;TZID=America/Chicago:20250807T200000
DTSTAMP:20260419T191731
CREATED:20250722T165054Z
LAST-MODIFIED:20250722T165056Z
UID:10010735-1754589600-1754596800@www.mheparish.org
SUMMARY:BeFriender Hospital Visit Team Meeting
DESCRIPTION:Meets in the Conference Room
URL:https://www.mheparish.org/calendar/befriender-hospital-visit-team-meeting/
LOCATION:St. Patrick Church of Merna\, 1001 N Towanda Barnes Rd\, Bloomington\, Illinois\, 61705\, United States
END:VEVENT
BEGIN:VEVENT
DTSTART;TZID=America/Chicago:20250808T070000
DTEND;TZID=America/Chicago:20250808T073000
DTSTAMP:20260419T191731
CREATED:20250710T204138Z
LAST-MODIFIED:20250710T204140Z
UID:10008349-1754636400-1754638200@www.mheparish.org
SUMMARY:Daily Mass at St. Pat's
DESCRIPTION:
URL:https://www.mheparish.org/calendar/daily-mass-at-st-pats-5/2025-08-08/
LOCATION:St. Patrick Church of Merna\, 1001 N Towanda Barnes Rd\, Bloomington\, Illinois\, 61705\, United States
END:VEVENT
BEGIN:VEVENT
DTSTART;TZID=America/Chicago:20250808T073000
DTEND;TZID=America/Chicago:20250808T163000
DTSTAMP:20260419T191731
CREATED:20250710T205001Z
LAST-MODIFIED:20250710T205002Z
UID:10009402-1754638200-1754670600@www.mheparish.org
SUMMARY:Adoration at St. Pat's
DESCRIPTION:
URL:https://www.mheparish.org/calendar/adoration-at-st-pats-3/2025-08-08/
LOCATION:St. Patrick Church of Merna\, 1001 N Towanda Barnes Rd\, Bloomington\, Illinois\, 61705\, United States
END:VEVENT
END:VCALENDAR