BEGIN:VCALENDAR
VERSION:2.0
PRODID:-//Most Holy Eucharist - ECPv6.13.2.1//NONSGML v1.0//EN
CALSCALE:GREGORIAN
METHOD:PUBLISH
X-ORIGINAL-URL:https://www.mheparish.org
X-WR-CALDESC:Events for Most Holy Eucharist
REFRESH-INTERVAL;VALUE=DURATION:PT1H
X-Robots-Tag:noindex
X-PUBLISHED-TTL:PT1H
BEGIN:VTIMEZONE
TZID:America/Chicago
BEGIN:DAYLIGHT
TZOFFSETFROM:-0600
TZOFFSETTO:-0500
TZNAME:CDT
DTSTART:20250309T080000
END:DAYLIGHT
BEGIN:STANDARD
TZOFFSETFROM:-0500
TZOFFSETTO:-0600
TZNAME:CST
DTSTART:20251102T070000
END:STANDARD
END:VTIMEZONE
BEGIN:VEVENT
DTSTART;TZID=America/Chicago:20250808T070000
DTEND;TZID=America/Chicago:20250808T073000
DTSTAMP:20260424T134630
CREATED:20250710T204138Z
LAST-MODIFIED:20250710T204140Z
UID:10008349-1754636400-1754638200@www.mheparish.org
SUMMARY:Daily Mass at St. Pat's
DESCRIPTION:
URL:https://www.mheparish.org/calendar/daily-mass-at-st-pats-5/2025-08-08/
LOCATION:St. Patrick Church of Merna\, 1001 N Towanda Barnes Rd\, Bloomington\, Illinois\, 61705\, United States
END:VEVENT
BEGIN:VEVENT
DTSTART;TZID=America/Chicago:20250808T073000
DTEND;TZID=America/Chicago:20250808T163000
DTSTAMP:20260424T134630
CREATED:20250710T205001Z
LAST-MODIFIED:20250710T205002Z
UID:10009402-1754638200-1754670600@www.mheparish.org
SUMMARY:Adoration at St. Pat's
DESCRIPTION:
URL:https://www.mheparish.org/calendar/adoration-at-st-pats-3/2025-08-08/
LOCATION:St. Patrick Church of Merna\, 1001 N Towanda Barnes Rd\, Bloomington\, Illinois\, 61705\, United States
END:VEVENT
BEGIN:VEVENT
DTSTART;TZID=America/Chicago:20250808T120000
DTEND;TZID=America/Chicago:20250808T160000
DTSTAMP:20260424T134630
CREATED:20250710T205111Z
LAST-MODIFIED:20250710T205113Z
UID:10009663-1754654400-1754668800@www.mheparish.org
SUMMARY:Confessions at St. Pat's
DESCRIPTION:
URL:https://www.mheparish.org/calendar/confessions-at-st-pats/2025-08-08/
LOCATION:St. Patrick Church of Merna\, 1001 N Towanda Barnes Rd\, Bloomington\, Illinois\, 61705\, United States
END:VEVENT
BEGIN:VEVENT
DTSTART;TZID=America/Chicago:20250808T170000
DTEND;TZID=America/Chicago:20250808T173000
DTSTAMP:20260424T134630
CREATED:20250710T204238Z
LAST-MODIFIED:20250710T204239Z
UID:10008610-1754672400-1754674200@www.mheparish.org
SUMMARY:Daily Mass at St. Pat's
DESCRIPTION:
URL:https://www.mheparish.org/calendar/daily-mass-at-st-pats-6/2025-08-08/
LOCATION:St. Patrick Church of Merna\, 1001 N Towanda Barnes Rd\, Bloomington\, Illinois\, 61705\, United States
END:VEVENT
BEGIN:VEVENT
DTSTART;TZID=America/Chicago:20250809T090000
DTEND;TZID=America/Chicago:20250809T100000
DTSTAMP:20260424T134630
CREATED:20250710T205219Z
LAST-MODIFIED:20250710T205253Z
UID:10009924-1754730000-1754733600@www.mheparish.org
SUMMARY:Confessions at St. Pat's
DESCRIPTION:
URL:https://www.mheparish.org/calendar/confessions-at-st-pats-2/2025-08-09/
LOCATION:St. Patrick Church of Merna\, 1001 N Towanda Barnes Rd\, Bloomington\, Illinois\, 61705\, United States
END:VEVENT
BEGIN:VEVENT
DTSTART;TZID=America/Chicago:20250809T160000
DTEND;TZID=America/Chicago:20250809T170000
DTSTAMP:20260424T134630
CREATED:20250710T202725Z
LAST-MODIFIED:20250710T203048Z
UID:10005464-1754755200-1754758800@www.mheparish.org
SUMMARY:Weekend Mass at St. Pat's
DESCRIPTION:
URL:https://www.mheparish.org/calendar/764/2025-08-09/
LOCATION:St. Patrick Church of Merna\, 1001 N Towanda Barnes Rd\, Bloomington\, Illinois\, 61705\, United States
END:VEVENT
BEGIN:VEVENT
DTSTART;TZID=America/Chicago:20250809T163000
DTEND;TZID=America/Chicago:20250809T173000
DTSTAMP:20260424T134630
CREATED:20250710T203412Z
LAST-MODIFIED:20250710T203414Z
UID:10006513-1754757000-1754760600@www.mheparish.org
SUMMARY:Weekend Mass at St. Mary's
DESCRIPTION:
URL:https://www.mheparish.org/calendar/weekend-mass-at-st-marys/2025-08-09/
LOCATION:St. Mary Church in Downs\, 108 E Washington St\, Downs\, Illinois\, 61736\, United States
END:VEVENT
BEGIN:VEVENT
DTSTART;TZID=America/Chicago:20250810T070000
DTEND;TZID=America/Chicago:20250810T080000
DTSTAMP:20260424T134630
CREATED:20250710T202956Z
LAST-MODIFIED:20250710T203121Z
UID:10005725-1754809200-1754812800@www.mheparish.org
SUMMARY:Weekend Mass at St. Pat's
DESCRIPTION:
URL:https://www.mheparish.org/calendar/weekend-mass-at-st-pats/2025-08-10/
LOCATION:St. Patrick Church of Merna\, 1001 N Towanda Barnes Rd\, Bloomington\, Illinois\, 61705\, United States
END:VEVENT
BEGIN:VEVENT
DTSTART;TZID=America/Chicago:20250810T083000
DTEND;TZID=America/Chicago:20250810T093000
DTSTAMP:20260424T134630
CREATED:20250710T203508Z
LAST-MODIFIED:20250710T203509Z
UID:10006775-1754814600-1754818200@www.mheparish.org
SUMMARY:Weekend Mass at St. Mary's
DESCRIPTION:
URL:https://www.mheparish.org/calendar/weekend-mass-at-st-marys-2/2025-08-10/
LOCATION:St. Mary Church in Downs\, 108 E Washington St\, Downs\, Illinois\, 61736\, United States
END:VEVENT
BEGIN:VEVENT
DTSTART;TZID=America/Chicago:20250810T090000
DTEND;TZID=America/Chicago:20250810T100000
DTSTAMP:20260424T134630
CREATED:20250710T203223Z
LAST-MODIFIED:20250710T203225Z
UID:10005989-1754816400-1754820000@www.mheparish.org
SUMMARY:Weekend Mass at St. Pat's
DESCRIPTION:
URL:https://www.mheparish.org/calendar/weekend-mass-at-st-pats-2/2025-08-10/
LOCATION:St. Patrick Church of Merna\, 1001 N Towanda Barnes Rd\, Bloomington\, Illinois\, 61705\, United States
END:VEVENT
BEGIN:VEVENT
DTSTART;TZID=America/Chicago:20250810T110000
DTEND;TZID=America/Chicago:20250810T120000
DTSTAMP:20260424T134630
CREATED:20250710T203319Z
LAST-MODIFIED:20250710T203320Z
UID:10006251-1754823600-1754827200@www.mheparish.org
SUMMARY:Weekend Mass at St. Pat's
DESCRIPTION:
URL:https://www.mheparish.org/calendar/weekend-mass-at-st-pats-3/2025-08-10/
LOCATION:St. Patrick Church of Merna\, 1001 N Towanda Barnes Rd\, Bloomington\, Illinois\, 61705\, United States
END:VEVENT
BEGIN:VEVENT
DTSTART;TZID=America/Chicago:20250811T000000
DTEND;TZID=America/Chicago:20250811T235959
DTSTAMP:20260424T134630
CREATED:20250722T165222Z
LAST-MODIFIED:20250722T165223Z
UID:10010736-1754870400-1754956799@www.mheparish.org
SUMMARY:Private Event
DESCRIPTION:Shamrock Hall\, Parish Hall\, Kitchen reserved
URL:https://www.mheparish.org/calendar/private-event-2/
LOCATION:St. Patrick Church of Merna\, 1001 N Towanda Barnes Rd\, Bloomington\, Illinois\, 61705\, United States
END:VEVENT
BEGIN:VEVENT
DTSTART;TZID=America/Chicago:20250811T070000
DTEND;TZID=America/Chicago:20250811T073000
DTSTAMP:20260424T134630
CREATED:20250710T203610Z
LAST-MODIFIED:20250710T203747Z
UID:10007037-1754895600-1754897400@www.mheparish.org
SUMMARY:Daily Mass at St. Pat's
DESCRIPTION:
URL:https://www.mheparish.org/calendar/daily-mass-at-st-pats/2025-08-11/
LOCATION:St. Patrick Church of Merna\, 1001 N Towanda Barnes Rd\, Bloomington\, Illinois\, 61705\, United States
END:VEVENT
BEGIN:VEVENT
DTSTART;TZID=America/Chicago:20250811T113000
DTEND;TZID=America/Chicago:20250811T123000
DTSTAMP:20260424T134630
CREATED:20250716T195915Z
LAST-MODIFIED:20250716T195917Z
UID:10010463-1754911800-1754915400@www.mheparish.org
SUMMARY:Centering Prayer
DESCRIPTION:Room 11
URL:https://www.mheparish.org/calendar/centering-prayer-6/2025-08-11/
LOCATION:St. Patrick Church of Merna\, 1001 N Towanda Barnes Rd\, Bloomington\, Illinois\, 61705\, United States
END:VEVENT
BEGIN:VEVENT
DTSTART;TZID=America/Chicago:20250811T183000
DTEND;TZID=America/Chicago:20250811T193000
DTSTAMP:20260424T134630
CREATED:20250722T165320Z
LAST-MODIFIED:20250722T165321Z
UID:10010737-1754937000-1754940600@www.mheparish.org
SUMMARY:St. Vincent de Paul Meeting
DESCRIPTION:Meets in the Conference Room
URL:https://www.mheparish.org/calendar/st-vincent-de-paul-meeting/
LOCATION:St. Patrick Church of Merna\, 1001 N Towanda Barnes Rd\, Bloomington\, Illinois\, 61705\, United States
END:VEVENT
BEGIN:VEVENT
DTSTART;TZID=America/Chicago:20250812T083000
DTEND;TZID=America/Chicago:20250812T090000
DTSTAMP:20260424T134630
CREATED:20250710T203706Z
LAST-MODIFIED:20250710T203708Z
UID:10007300-1754987400-1754989200@www.mheparish.org
SUMMARY:Daily Mass at St. Pat's
DESCRIPTION:
URL:https://www.mheparish.org/calendar/daily-mass-at-st-pats-2/2025-08-12/
LOCATION:St. Patrick Church of Merna\, 1001 N Towanda Barnes Rd\, Bloomington\, Illinois\, 61705\, United States
END:VEVENT
BEGIN:VEVENT
DTSTART;TZID=America/Chicago:20250812T090000
DTEND;TZID=America/Chicago:20250812T203000
DTSTAMP:20260424T134630
CREATED:20250710T204758Z
LAST-MODIFIED:20250710T204800Z
UID:10008878-1754989200-1755030600@www.mheparish.org
SUMMARY:Adoration at St. Pat's
DESCRIPTION:
URL:https://www.mheparish.org/calendar/adoration-at-st-pats/2025-08-12/
LOCATION:St. Patrick Church of Merna\, 1001 N Towanda Barnes Rd\, Bloomington\, Illinois\, 61705\, United States
END:VEVENT
BEGIN:VEVENT
DTSTART;TZID=America/Chicago:20250812T100000
DTEND;TZID=America/Chicago:20250812T110000
DTSTAMP:20260424T134630
CREATED:20250722T165452Z
LAST-MODIFIED:20250722T165453Z
UID:10010738-1754992800-1754996400@www.mheparish.org
SUMMARY:PURLS - Prayer Shawl Ministry
DESCRIPTION:Meets in Room 9; All knitters and crocheters are welcome\, regardless of skill level
URL:https://www.mheparish.org/calendar/purls-prayer-shawl-ministry/
LOCATION:St. Patrick Church of Merna\, 1001 N Towanda Barnes Rd\, Bloomington\, Illinois\, 61705\, United States
END:VEVENT
BEGIN:VEVENT
DTSTART;TZID=America/Chicago:20250812T183000
DTEND;TZID=America/Chicago:20250812T193000
DTSTAMP:20260424T134630
CREATED:20250722T165547Z
LAST-MODIFIED:20250722T165548Z
UID:10010739-1755023400-1755027000@www.mheparish.org
SUMMARY:PURLS - Prayer Shawl Ministry
DESCRIPTION:Meets in Room 9; All knitters and crocheters are welcome\, regardless of skill level
URL:https://www.mheparish.org/calendar/purls-prayer-shawl-ministry-2/
LOCATION:St. Patrick Church of Merna\, 1001 N Towanda Barnes Rd\, Bloomington\, Illinois\, 61705\, United States
END:VEVENT
BEGIN:VEVENT
DTSTART;TZID=America/Chicago:20250812T183000
DTEND;TZID=America/Chicago:20250812T193000
DTSTAMP:20260424T134630
CREATED:20250722T165642Z
LAST-MODIFIED:20250722T165643Z
UID:10010740-1755023400-1755027000@www.mheparish.org
SUMMARY:Finance Council Meeting
DESCRIPTION:
URL:https://www.mheparish.org/calendar/finance-council-meeting/
LOCATION:St. Patrick Church of Merna\, 1001 N Towanda Barnes Rd\, Bloomington\, Illinois\, 61705\, United States
END:VEVENT
BEGIN:VEVENT
DTSTART;TZID=America/Chicago:20250812T183000
DTEND;TZID=America/Chicago:20250812T203000
DTSTAMP:20260424T134630
CREATED:20250716T195227Z
LAST-MODIFIED:20250716T195228Z
UID:10010193-1755023400-1755030600@www.mheparish.org
SUMMARY:The Chosen Season 5 Watch and Chat
DESCRIPTION:Please register for this event HERE.
URL:https://www.mheparish.org/calendar/the-chosen-season-5-watch-and-chat/2025-08-12/
LOCATION:St. Patrick Church of Merna\, 1001 N Towanda Barnes Rd\, Bloomington\, Illinois\, 61705\, United States
END:VEVENT
BEGIN:VEVENT
DTSTART;TZID=America/Chicago:20250813T070000
DTEND;TZID=America/Chicago:20250813T073000
DTSTAMP:20260424T134630
CREATED:20250710T203843Z
LAST-MODIFIED:20250710T203845Z
UID:10007563-1755068400-1755070200@www.mheparish.org
SUMMARY:Daily Mass at St. Pat's
DESCRIPTION:
URL:https://www.mheparish.org/calendar/daily-mass-at-st-pats-3/2025-08-13/
LOCATION:St. Patrick Church of Merna\, 1001 N Towanda Barnes Rd\, Bloomington\, Illinois\, 61705\, United States
END:VEVENT
BEGIN:VEVENT
DTSTART;TZID=America/Chicago:20250813T073000
DTEND;TZID=America/Chicago:20250813T203000
DTSTAMP:20260424T134630
CREATED:20250710T204901Z
LAST-MODIFIED:20250710T204903Z
UID:10009141-1755070200-1755117000@www.mheparish.org
SUMMARY:Adoration at St. Pat's
DESCRIPTION:
URL:https://www.mheparish.org/calendar/adoration-at-st-pats-2/2025-08-13/
LOCATION:St. Patrick Church of Merna\, 1001 N Towanda Barnes Rd\, Bloomington\, Illinois\, 61705\, United States
END:VEVENT
BEGIN:VEVENT
DTSTART;TZID=America/Chicago:20250813T163000
DTEND;TZID=America/Chicago:20250813T183000
DTSTAMP:20260424T134630
CREATED:20250722T165806Z
LAST-MODIFIED:20250722T165807Z
UID:10010741-1755102600-1755109800@www.mheparish.org
SUMMARY:Private Small Group Retreat
DESCRIPTION:Reserved Library\, Parish Hall\, and the Church
URL:https://www.mheparish.org/calendar/private-small-group-retreat/
LOCATION:St. Patrick Church of Merna\, 1001 N Towanda Barnes Rd\, Bloomington\, Illinois\, 61705\, United States
END:VEVENT
BEGIN:VEVENT
DTSTART;TZID=America/Chicago:20250813T173000
DTEND;TZID=America/Chicago:20250813T180000
DTSTAMP:20260424T134630
CREATED:20250710T203938Z
LAST-MODIFIED:20250710T203939Z
UID:10007826-1755106200-1755108000@www.mheparish.org
SUMMARY:Daily Mass at St. Mary's
DESCRIPTION:
URL:https://www.mheparish.org/calendar/daily-mass-at-st-marys/2025-08-13/
LOCATION:St. Patrick Church of Merna\, 1001 N Towanda Barnes Rd\, Bloomington\, Illinois\, 61705\, United States
END:VEVENT
BEGIN:VEVENT
DTSTART;TZID=America/Chicago:20250813T183000
DTEND;TZID=America/Chicago:20250813T193000
DTSTAMP:20260424T134630
CREATED:20250716T195814Z
LAST-MODIFIED:20250716T195816Z
UID:10010205-1755109800-1755113400@www.mheparish.org
SUMMARY:Centering Prayer
DESCRIPTION:Room 11
URL:https://www.mheparish.org/calendar/centering-prayer-5/2025-08-13/
LOCATION:St. Patrick Church of Merna\, 1001 N Towanda Barnes Rd\, Bloomington\, Illinois\, 61705\, United States
END:VEVENT
BEGIN:VEVENT
DTSTART;TZID=America/Chicago:20250814T083000
DTEND;TZID=America/Chicago:20250814T090000
DTSTAMP:20260424T134630
CREATED:20250710T204035Z
LAST-MODIFIED:20250710T204037Z
UID:10008089-1755160200-1755162000@www.mheparish.org
SUMMARY:Daily Mass at St. Pat's
DESCRIPTION:
URL:https://www.mheparish.org/calendar/daily-mass-at-st-pats-4/2025-08-14/
LOCATION:St. Patrick Church of Merna\, 1001 N Towanda Barnes Rd\, Bloomington\, Illinois\, 61705\, United States
END:VEVENT
BEGIN:VEVENT
DTSTART;TZID=America/Chicago:20250814T173000
DTEND;TZID=America/Chicago:20250814T183000
DTSTAMP:20260424T134630
CREATED:20250722T174402Z
LAST-MODIFIED:20250722T174403Z
UID:10011025-1755192600-1755196200@www.mheparish.org
SUMMARY:Solemnity of the Assumption of Mary - Vigil Mass at St. Mary's
DESCRIPTION:
URL:https://www.mheparish.org/calendar/solemnity-of-the-assumption-of-mary-vigil-mass-at-st-marys/
LOCATION:St. Mary Church in Downs\, 108 E Washington St\, Downs\, Illinois\, 61736\, United States
END:VEVENT
BEGIN:VEVENT
DTSTART;TZID=America/Chicago:20250815T070000
DTEND;TZID=America/Chicago:20250815T080000
DTSTAMP:20260424T134630
CREATED:20250722T174449Z
LAST-MODIFIED:20250722T174451Z
UID:10011026-1755241200-1755244800@www.mheparish.org
SUMMARY:Solemnity of the Assumption of Mary - Holy Day Mass at St. Pat's
DESCRIPTION:
URL:https://www.mheparish.org/calendar/solemnity-of-the-assumption-of-mary-holy-day-mass-at-st-pats/
LOCATION:St. Patrick Church of Merna\, 1001 N Towanda Barnes Rd\, Bloomington\, Illinois\, 61705\, United States
END:VEVENT
BEGIN:VEVENT
DTSTART;TZID=America/Chicago:20250815T073000
DTEND;TZID=America/Chicago:20250815T163000
DTSTAMP:20260424T134630
CREATED:20250710T205001Z
LAST-MODIFIED:20250710T205002Z
UID:10009403-1755243000-1755275400@www.mheparish.org
SUMMARY:Adoration at St. Pat's
DESCRIPTION:
URL:https://www.mheparish.org/calendar/adoration-at-st-pats-3/2025-08-15/
LOCATION:St. Patrick Church of Merna\, 1001 N Towanda Barnes Rd\, Bloomington\, Illinois\, 61705\, United States
END:VEVENT
END:VCALENDAR