BEGIN:VCALENDAR
VERSION:2.0
PRODID:-//Most Holy Eucharist - ECPv6.13.2.1//NONSGML v1.0//EN
CALSCALE:GREGORIAN
METHOD:PUBLISH
X-ORIGINAL-URL:https://www.mheparish.org
X-WR-CALDESC:Events for Most Holy Eucharist
REFRESH-INTERVAL;VALUE=DURATION:PT1H
X-Robots-Tag:noindex
X-PUBLISHED-TTL:PT1H
BEGIN:VTIMEZONE
TZID:America/Chicago
BEGIN:DAYLIGHT
TZOFFSETFROM:-0600
TZOFFSETTO:-0500
TZNAME:CDT
DTSTART:20260308T080000
END:DAYLIGHT
BEGIN:STANDARD
TZOFFSETFROM:-0500
TZOFFSETTO:-0600
TZNAME:CST
DTSTART:20261101T070000
END:STANDARD
END:VTIMEZONE
BEGIN:VEVENT
DTSTART;TZID=America/Chicago:20260424T054500
DTEND;TZID=America/Chicago:20260424T064500
DTSTAMP:20260423T162910
CREATED:20250923T183814Z
LAST-MODIFIED:20250923T183815Z
UID:10011262-1777009500-1777013100@www.mheparish.org
SUMMARY:Man Up! Men's Ministry
DESCRIPTION:Meets in Shamrock Hall
URL:https://www.mheparish.org/calendar/man-up-mens-ministry/2026-04-24/
LOCATION:St. Patrick Church of Merna\, 1001 N Towanda Barnes Rd\, Bloomington\, Illinois\, 61705\, United States
END:VEVENT
BEGIN:VEVENT
DTSTART;TZID=America/Chicago:20260501T054500
DTEND;TZID=America/Chicago:20260501T064500
DTSTAMP:20260423T162910
CREATED:20250923T183814Z
LAST-MODIFIED:20250923T183815Z
UID:10011263-1777614300-1777617900@www.mheparish.org
SUMMARY:Man Up! Men's Ministry
DESCRIPTION:Meets in Shamrock Hall
URL:https://www.mheparish.org/calendar/man-up-mens-ministry/2026-05-01/
LOCATION:St. Patrick Church of Merna\, 1001 N Towanda Barnes Rd\, Bloomington\, Illinois\, 61705\, United States
END:VEVENT
BEGIN:VEVENT
DTSTART;TZID=America/Chicago:20260508T054500
DTEND;TZID=America/Chicago:20260508T064500
DTSTAMP:20260423T162910
CREATED:20250923T183814Z
LAST-MODIFIED:20250923T183815Z
UID:10011264-1778219100-1778222700@www.mheparish.org
SUMMARY:Man Up! Men's Ministry
DESCRIPTION:Meets in Shamrock Hall
URL:https://www.mheparish.org/calendar/man-up-mens-ministry/2026-05-08/
LOCATION:St. Patrick Church of Merna\, 1001 N Towanda Barnes Rd\, Bloomington\, Illinois\, 61705\, United States
END:VEVENT
BEGIN:VEVENT
DTSTART;TZID=America/Chicago:20260515T054500
DTEND;TZID=America/Chicago:20260515T064500
DTSTAMP:20260423T162910
CREATED:20250923T183814Z
LAST-MODIFIED:20250923T183815Z
UID:10011265-1778823900-1778827500@www.mheparish.org
SUMMARY:Man Up! Men's Ministry
DESCRIPTION:Meets in Shamrock Hall
URL:https://www.mheparish.org/calendar/man-up-mens-ministry/2026-05-15/
LOCATION:St. Patrick Church of Merna\, 1001 N Towanda Barnes Rd\, Bloomington\, Illinois\, 61705\, United States
END:VEVENT
BEGIN:VEVENT
DTSTART;TZID=America/Chicago:20260522T054500
DTEND;TZID=America/Chicago:20260522T064500
DTSTAMP:20260423T162910
CREATED:20250923T183814Z
LAST-MODIFIED:20250923T183815Z
UID:10011266-1779428700-1779432300@www.mheparish.org
SUMMARY:Man Up! Men's Ministry
DESCRIPTION:Meets in Shamrock Hall
URL:https://www.mheparish.org/calendar/man-up-mens-ministry/2026-05-22/
LOCATION:St. Patrick Church of Merna\, 1001 N Towanda Barnes Rd\, Bloomington\, Illinois\, 61705\, United States
END:VEVENT
BEGIN:VEVENT
DTSTART;TZID=America/Chicago:20260529T054500
DTEND;TZID=America/Chicago:20260529T064500
DTSTAMP:20260423T162910
CREATED:20250923T183814Z
LAST-MODIFIED:20250923T183815Z
UID:10011267-1780033500-1780037100@www.mheparish.org
SUMMARY:Man Up! Men's Ministry
DESCRIPTION:Meets in Shamrock Hall
URL:https://www.mheparish.org/calendar/man-up-mens-ministry/2026-05-29/
LOCATION:St. Patrick Church of Merna\, 1001 N Towanda Barnes Rd\, Bloomington\, Illinois\, 61705\, United States
END:VEVENT
BEGIN:VEVENT
DTSTART;TZID=America/Chicago:20260605T054500
DTEND;TZID=America/Chicago:20260605T064500
DTSTAMP:20260423T162910
CREATED:20250923T183814Z
LAST-MODIFIED:20250923T183815Z
UID:10011268-1780638300-1780641900@www.mheparish.org
SUMMARY:Man Up! Men's Ministry
DESCRIPTION:Meets in Shamrock Hall
URL:https://www.mheparish.org/calendar/man-up-mens-ministry/2026-06-05/
LOCATION:St. Patrick Church of Merna\, 1001 N Towanda Barnes Rd\, Bloomington\, Illinois\, 61705\, United States
END:VEVENT
BEGIN:VEVENT
DTSTART;TZID=America/Chicago:20260612T054500
DTEND;TZID=America/Chicago:20260612T064500
DTSTAMP:20260423T162910
CREATED:20250923T183814Z
LAST-MODIFIED:20250923T183815Z
UID:10011269-1781243100-1781246700@www.mheparish.org
SUMMARY:Man Up! Men's Ministry
DESCRIPTION:Meets in Shamrock Hall
URL:https://www.mheparish.org/calendar/man-up-mens-ministry/2026-06-12/
LOCATION:St. Patrick Church of Merna\, 1001 N Towanda Barnes Rd\, Bloomington\, Illinois\, 61705\, United States
END:VEVENT
BEGIN:VEVENT
DTSTART;TZID=America/Chicago:20260619T054500
DTEND;TZID=America/Chicago:20260619T064500
DTSTAMP:20260423T162910
CREATED:20250923T183814Z
LAST-MODIFIED:20250923T183815Z
UID:10011270-1781847900-1781851500@www.mheparish.org
SUMMARY:Man Up! Men's Ministry
DESCRIPTION:Meets in Shamrock Hall
URL:https://www.mheparish.org/calendar/man-up-mens-ministry/2026-06-19/
LOCATION:St. Patrick Church of Merna\, 1001 N Towanda Barnes Rd\, Bloomington\, Illinois\, 61705\, United States
END:VEVENT
BEGIN:VEVENT
DTSTART;TZID=America/Chicago:20260626T054500
DTEND;TZID=America/Chicago:20260626T064500
DTSTAMP:20260423T162910
CREATED:20250923T183814Z
LAST-MODIFIED:20250923T183815Z
UID:10011271-1782452700-1782456300@www.mheparish.org
SUMMARY:Man Up! Men's Ministry
DESCRIPTION:Meets in Shamrock Hall
URL:https://www.mheparish.org/calendar/man-up-mens-ministry/2026-06-26/
LOCATION:St. Patrick Church of Merna\, 1001 N Towanda Barnes Rd\, Bloomington\, Illinois\, 61705\, United States
END:VEVENT
BEGIN:VEVENT
DTSTART;TZID=America/Chicago:20260703T054500
DTEND;TZID=America/Chicago:20260703T064500
DTSTAMP:20260423T162910
CREATED:20250923T183814Z
LAST-MODIFIED:20250923T183815Z
UID:10011272-1783057500-1783061100@www.mheparish.org
SUMMARY:Man Up! Men's Ministry
DESCRIPTION:Meets in Shamrock Hall
URL:https://www.mheparish.org/calendar/man-up-mens-ministry/2026-07-03/
LOCATION:St. Patrick Church of Merna\, 1001 N Towanda Barnes Rd\, Bloomington\, Illinois\, 61705\, United States
END:VEVENT
BEGIN:VEVENT
DTSTART;TZID=America/Chicago:20260710T054500
DTEND;TZID=America/Chicago:20260710T064500
DTSTAMP:20260423T162910
CREATED:20250923T183814Z
LAST-MODIFIED:20250923T183815Z
UID:10011273-1783662300-1783665900@www.mheparish.org
SUMMARY:Man Up! Men's Ministry
DESCRIPTION:Meets in Shamrock Hall
URL:https://www.mheparish.org/calendar/man-up-mens-ministry/2026-07-10/
LOCATION:St. Patrick Church of Merna\, 1001 N Towanda Barnes Rd\, Bloomington\, Illinois\, 61705\, United States
END:VEVENT
BEGIN:VEVENT
DTSTART;TZID=America/Chicago:20260717T054500
DTEND;TZID=America/Chicago:20260717T064500
DTSTAMP:20260423T162910
CREATED:20250923T183814Z
LAST-MODIFIED:20250923T183815Z
UID:10011274-1784267100-1784270700@www.mheparish.org
SUMMARY:Man Up! Men's Ministry
DESCRIPTION:Meets in Shamrock Hall
URL:https://www.mheparish.org/calendar/man-up-mens-ministry/2026-07-17/
LOCATION:St. Patrick Church of Merna\, 1001 N Towanda Barnes Rd\, Bloomington\, Illinois\, 61705\, United States
END:VEVENT
BEGIN:VEVENT
DTSTART;TZID=America/Chicago:20260724T054500
DTEND;TZID=America/Chicago:20260724T064500
DTSTAMP:20260423T162910
CREATED:20250923T183814Z
LAST-MODIFIED:20250923T183815Z
UID:10011275-1784871900-1784875500@www.mheparish.org
SUMMARY:Man Up! Men's Ministry
DESCRIPTION:Meets in Shamrock Hall
URL:https://www.mheparish.org/calendar/man-up-mens-ministry/2026-07-24/
LOCATION:St. Patrick Church of Merna\, 1001 N Towanda Barnes Rd\, Bloomington\, Illinois\, 61705\, United States
END:VEVENT
BEGIN:VEVENT
DTSTART;TZID=America/Chicago:20260731T054500
DTEND;TZID=America/Chicago:20260731T064500
DTSTAMP:20260423T162910
CREATED:20250923T183814Z
LAST-MODIFIED:20250923T183815Z
UID:10011276-1785476700-1785480300@www.mheparish.org
SUMMARY:Man Up! Men's Ministry
DESCRIPTION:Meets in Shamrock Hall
URL:https://www.mheparish.org/calendar/man-up-mens-ministry/2026-07-31/
LOCATION:St. Patrick Church of Merna\, 1001 N Towanda Barnes Rd\, Bloomington\, Illinois\, 61705\, United States
END:VEVENT
BEGIN:VEVENT
DTSTART;TZID=America/Chicago:20260807T054500
DTEND;TZID=America/Chicago:20260807T064500
DTSTAMP:20260423T162910
CREATED:20250923T183814Z
LAST-MODIFIED:20250923T183815Z
UID:10011277-1786081500-1786085100@www.mheparish.org
SUMMARY:Man Up! Men's Ministry
DESCRIPTION:Meets in Shamrock Hall
URL:https://www.mheparish.org/calendar/man-up-mens-ministry/2026-08-07/
LOCATION:St. Patrick Church of Merna\, 1001 N Towanda Barnes Rd\, Bloomington\, Illinois\, 61705\, United States
END:VEVENT
BEGIN:VEVENT
DTSTART;TZID=America/Chicago:20260814T054500
DTEND;TZID=America/Chicago:20260814T064500
DTSTAMP:20260423T162910
CREATED:20250923T183814Z
LAST-MODIFIED:20250923T183815Z
UID:10011278-1786686300-1786689900@www.mheparish.org
SUMMARY:Man Up! Men's Ministry
DESCRIPTION:Meets in Shamrock Hall
URL:https://www.mheparish.org/calendar/man-up-mens-ministry/2026-08-14/
LOCATION:St. Patrick Church of Merna\, 1001 N Towanda Barnes Rd\, Bloomington\, Illinois\, 61705\, United States
END:VEVENT
BEGIN:VEVENT
DTSTART;TZID=America/Chicago:20260821T054500
DTEND;TZID=America/Chicago:20260821T064500
DTSTAMP:20260423T162910
CREATED:20250923T183814Z
LAST-MODIFIED:20250923T183815Z
UID:10011279-1787291100-1787294700@www.mheparish.org
SUMMARY:Man Up! Men's Ministry
DESCRIPTION:Meets in Shamrock Hall
URL:https://www.mheparish.org/calendar/man-up-mens-ministry/2026-08-21/
LOCATION:St. Patrick Church of Merna\, 1001 N Towanda Barnes Rd\, Bloomington\, Illinois\, 61705\, United States
END:VEVENT
BEGIN:VEVENT
DTSTART;TZID=America/Chicago:20260828T054500
DTEND;TZID=America/Chicago:20260828T064500
DTSTAMP:20260423T162910
CREATED:20250923T183814Z
LAST-MODIFIED:20250923T183815Z
UID:10011280-1787895900-1787899500@www.mheparish.org
SUMMARY:Man Up! Men's Ministry
DESCRIPTION:Meets in Shamrock Hall
URL:https://www.mheparish.org/calendar/man-up-mens-ministry/2026-08-28/
LOCATION:St. Patrick Church of Merna\, 1001 N Towanda Barnes Rd\, Bloomington\, Illinois\, 61705\, United States
END:VEVENT
BEGIN:VEVENT
DTSTART;TZID=America/Chicago:20260904T054500
DTEND;TZID=America/Chicago:20260904T064500
DTSTAMP:20260423T162910
CREATED:20250923T183814Z
LAST-MODIFIED:20250923T183815Z
UID:10011281-1788500700-1788504300@www.mheparish.org
SUMMARY:Man Up! Men's Ministry
DESCRIPTION:Meets in Shamrock Hall
URL:https://www.mheparish.org/calendar/man-up-mens-ministry/2026-09-04/
LOCATION:St. Patrick Church of Merna\, 1001 N Towanda Barnes Rd\, Bloomington\, Illinois\, 61705\, United States
END:VEVENT
BEGIN:VEVENT
DTSTART;TZID=America/Chicago:20260911T054500
DTEND;TZID=America/Chicago:20260911T064500
DTSTAMP:20260423T162910
CREATED:20250923T183814Z
LAST-MODIFIED:20250923T183815Z
UID:10011282-1789105500-1789109100@www.mheparish.org
SUMMARY:Man Up! Men's Ministry
DESCRIPTION:Meets in Shamrock Hall
URL:https://www.mheparish.org/calendar/man-up-mens-ministry/2026-09-11/
LOCATION:St. Patrick Church of Merna\, 1001 N Towanda Barnes Rd\, Bloomington\, Illinois\, 61705\, United States
END:VEVENT
BEGIN:VEVENT
DTSTART;TZID=America/Chicago:20260918T054500
DTEND;TZID=America/Chicago:20260918T064500
DTSTAMP:20260423T162910
CREATED:20250923T183814Z
LAST-MODIFIED:20250923T183815Z
UID:10011283-1789710300-1789713900@www.mheparish.org
SUMMARY:Man Up! Men's Ministry
DESCRIPTION:Meets in Shamrock Hall
URL:https://www.mheparish.org/calendar/man-up-mens-ministry/2026-09-18/
LOCATION:St. Patrick Church of Merna\, 1001 N Towanda Barnes Rd\, Bloomington\, Illinois\, 61705\, United States
END:VEVENT
BEGIN:VEVENT
DTSTART;TZID=America/Chicago:20260925T054500
DTEND;TZID=America/Chicago:20260925T064500
DTSTAMP:20260423T162910
CREATED:20250923T183814Z
LAST-MODIFIED:20250923T183815Z
UID:10011284-1790315100-1790318700@www.mheparish.org
SUMMARY:Man Up! Men's Ministry
DESCRIPTION:Meets in Shamrock Hall
URL:https://www.mheparish.org/calendar/man-up-mens-ministry/2026-09-25/
LOCATION:St. Patrick Church of Merna\, 1001 N Towanda Barnes Rd\, Bloomington\, Illinois\, 61705\, United States
END:VEVENT
BEGIN:VEVENT
DTSTART;TZID=America/Chicago:20261002T054500
DTEND;TZID=America/Chicago:20261002T064500
DTSTAMP:20260423T162910
CREATED:20250923T183814Z
LAST-MODIFIED:20250923T183815Z
UID:10011285-1790919900-1790923500@www.mheparish.org
SUMMARY:Man Up! Men's Ministry
DESCRIPTION:Meets in Shamrock Hall
URL:https://www.mheparish.org/calendar/man-up-mens-ministry/2026-10-02/
LOCATION:St. Patrick Church of Merna\, 1001 N Towanda Barnes Rd\, Bloomington\, Illinois\, 61705\, United States
END:VEVENT
BEGIN:VEVENT
DTSTART;TZID=America/Chicago:20261009T054500
DTEND;TZID=America/Chicago:20261009T064500
DTSTAMP:20260423T162910
CREATED:20250923T183814Z
LAST-MODIFIED:20250923T183815Z
UID:10011286-1791524700-1791528300@www.mheparish.org
SUMMARY:Man Up! Men's Ministry
DESCRIPTION:Meets in Shamrock Hall
URL:https://www.mheparish.org/calendar/man-up-mens-ministry/2026-10-09/
LOCATION:St. Patrick Church of Merna\, 1001 N Towanda Barnes Rd\, Bloomington\, Illinois\, 61705\, United States
END:VEVENT
BEGIN:VEVENT
DTSTART;TZID=America/Chicago:20261016T054500
DTEND;TZID=America/Chicago:20261016T064500
DTSTAMP:20260423T162910
CREATED:20250923T183814Z
LAST-MODIFIED:20250923T183815Z
UID:10011287-1792129500-1792133100@www.mheparish.org
SUMMARY:Man Up! Men's Ministry
DESCRIPTION:Meets in Shamrock Hall
URL:https://www.mheparish.org/calendar/man-up-mens-ministry/2026-10-16/
LOCATION:St. Patrick Church of Merna\, 1001 N Towanda Barnes Rd\, Bloomington\, Illinois\, 61705\, United States
END:VEVENT
BEGIN:VEVENT
DTSTART;TZID=America/Chicago:20261023T054500
DTEND;TZID=America/Chicago:20261023T064500
DTSTAMP:20260423T162910
CREATED:20250923T183814Z
LAST-MODIFIED:20250923T183815Z
UID:10011288-1792734300-1792737900@www.mheparish.org
SUMMARY:Man Up! Men's Ministry
DESCRIPTION:Meets in Shamrock Hall
URL:https://www.mheparish.org/calendar/man-up-mens-ministry/2026-10-23/
LOCATION:St. Patrick Church of Merna\, 1001 N Towanda Barnes Rd\, Bloomington\, Illinois\, 61705\, United States
END:VEVENT
BEGIN:VEVENT
DTSTART;TZID=America/Chicago:20261030T054500
DTEND;TZID=America/Chicago:20261030T064500
DTSTAMP:20260423T162910
CREATED:20250923T183814Z
LAST-MODIFIED:20250923T183815Z
UID:10011289-1793339100-1793342700@www.mheparish.org
SUMMARY:Man Up! Men's Ministry
DESCRIPTION:Meets in Shamrock Hall
URL:https://www.mheparish.org/calendar/man-up-mens-ministry/2026-10-30/
LOCATION:St. Patrick Church of Merna\, 1001 N Towanda Barnes Rd\, Bloomington\, Illinois\, 61705\, United States
END:VEVENT
BEGIN:VEVENT
DTSTART;TZID=America/Chicago:20261106T054500
DTEND;TZID=America/Chicago:20261106T064500
DTSTAMP:20260423T162910
CREATED:20250923T183814Z
LAST-MODIFIED:20250923T183815Z
UID:10011290-1793943900-1793947500@www.mheparish.org
SUMMARY:Man Up! Men's Ministry
DESCRIPTION:Meets in Shamrock Hall
URL:https://www.mheparish.org/calendar/man-up-mens-ministry/2026-11-06/
LOCATION:St. Patrick Church of Merna\, 1001 N Towanda Barnes Rd\, Bloomington\, Illinois\, 61705\, United States
END:VEVENT
BEGIN:VEVENT
DTSTART;TZID=America/Chicago:20261113T054500
DTEND;TZID=America/Chicago:20261113T064500
DTSTAMP:20260423T162910
CREATED:20250923T183814Z
LAST-MODIFIED:20250923T183815Z
UID:10011291-1794548700-1794552300@www.mheparish.org
SUMMARY:Man Up! Men's Ministry
DESCRIPTION:Meets in Shamrock Hall
URL:https://www.mheparish.org/calendar/man-up-mens-ministry/2026-11-13/
LOCATION:St. Patrick Church of Merna\, 1001 N Towanda Barnes Rd\, Bloomington\, Illinois\, 61705\, United States
END:VEVENT
END:VCALENDAR