BEGIN:VCALENDAR
VERSION:2.0
PRODID:-//Most Holy Eucharist - ECPv6.13.2.1//NONSGML v1.0//EN
CALSCALE:GREGORIAN
METHOD:PUBLISH
X-ORIGINAL-URL:https://www.mheparish.org
X-WR-CALDESC:Events for Most Holy Eucharist
REFRESH-INTERVAL;VALUE=DURATION:PT1H
X-Robots-Tag:noindex
X-PUBLISHED-TTL:PT1H
BEGIN:VTIMEZONE
TZID:America/Chicago
BEGIN:DAYLIGHT
TZOFFSETFROM:-0600
TZOFFSETTO:-0500
TZNAME:CDT
DTSTART:20260308T080000
END:DAYLIGHT
BEGIN:STANDARD
TZOFFSETFROM:-0500
TZOFFSETTO:-0600
TZNAME:CST
DTSTART:20261101T070000
END:STANDARD
END:VTIMEZONE
BEGIN:VEVENT
DTSTART;TZID=America/Chicago:20260427T113000
DTEND;TZID=America/Chicago:20260427T123000
DTSTAMP:20260422T104512
CREATED:20250716T195915Z
LAST-MODIFIED:20250716T195917Z
UID:10010500-1777289400-1777293000@www.mheparish.org
SUMMARY:Centering Prayer
DESCRIPTION:Room 11
URL:https://www.mheparish.org/calendar/centering-prayer-6/2026-04-27/
LOCATION:St. Patrick Church of Merna\, 1001 N Towanda Barnes Rd\, Bloomington\, Illinois\, 61705\, United States
END:VEVENT
BEGIN:VEVENT
DTSTART;TZID=America/Chicago:20260504T113000
DTEND;TZID=America/Chicago:20260504T123000
DTSTAMP:20260422T104512
CREATED:20250716T195915Z
LAST-MODIFIED:20250716T195917Z
UID:10010501-1777894200-1777897800@www.mheparish.org
SUMMARY:Centering Prayer
DESCRIPTION:Room 11
URL:https://www.mheparish.org/calendar/centering-prayer-6/2026-05-04/
LOCATION:St. Patrick Church of Merna\, 1001 N Towanda Barnes Rd\, Bloomington\, Illinois\, 61705\, United States
END:VEVENT
BEGIN:VEVENT
DTSTART;TZID=America/Chicago:20260511T113000
DTEND;TZID=America/Chicago:20260511T123000
DTSTAMP:20260422T104512
CREATED:20250716T195915Z
LAST-MODIFIED:20250716T195917Z
UID:10010502-1778499000-1778502600@www.mheparish.org
SUMMARY:Centering Prayer
DESCRIPTION:Room 11
URL:https://www.mheparish.org/calendar/centering-prayer-6/2026-05-11/
LOCATION:St. Patrick Church of Merna\, 1001 N Towanda Barnes Rd\, Bloomington\, Illinois\, 61705\, United States
END:VEVENT
BEGIN:VEVENT
DTSTART;TZID=America/Chicago:20260518T113000
DTEND;TZID=America/Chicago:20260518T123000
DTSTAMP:20260422T104512
CREATED:20250716T195915Z
LAST-MODIFIED:20250716T195917Z
UID:10010503-1779103800-1779107400@www.mheparish.org
SUMMARY:Centering Prayer
DESCRIPTION:Room 11
URL:https://www.mheparish.org/calendar/centering-prayer-6/2026-05-18/
LOCATION:St. Patrick Church of Merna\, 1001 N Towanda Barnes Rd\, Bloomington\, Illinois\, 61705\, United States
END:VEVENT
BEGIN:VEVENT
DTSTART;TZID=America/Chicago:20260525T113000
DTEND;TZID=America/Chicago:20260525T123000
DTSTAMP:20260422T104512
CREATED:20250716T195915Z
LAST-MODIFIED:20250716T195917Z
UID:10010504-1779708600-1779712200@www.mheparish.org
SUMMARY:Centering Prayer
DESCRIPTION:Room 11
URL:https://www.mheparish.org/calendar/centering-prayer-6/2026-05-25/
LOCATION:St. Patrick Church of Merna\, 1001 N Towanda Barnes Rd\, Bloomington\, Illinois\, 61705\, United States
END:VEVENT
BEGIN:VEVENT
DTSTART;TZID=America/Chicago:20260601T113000
DTEND;TZID=America/Chicago:20260601T123000
DTSTAMP:20260422T104512
CREATED:20250716T195915Z
LAST-MODIFIED:20250716T195917Z
UID:10010505-1780313400-1780317000@www.mheparish.org
SUMMARY:Centering Prayer
DESCRIPTION:Room 11
URL:https://www.mheparish.org/calendar/centering-prayer-6/2026-06-01/
LOCATION:St. Patrick Church of Merna\, 1001 N Towanda Barnes Rd\, Bloomington\, Illinois\, 61705\, United States
END:VEVENT
BEGIN:VEVENT
DTSTART;TZID=America/Chicago:20260608T113000
DTEND;TZID=America/Chicago:20260608T123000
DTSTAMP:20260422T104512
CREATED:20250716T195915Z
LAST-MODIFIED:20250716T195917Z
UID:10010506-1780918200-1780921800@www.mheparish.org
SUMMARY:Centering Prayer
DESCRIPTION:Room 11
URL:https://www.mheparish.org/calendar/centering-prayer-6/2026-06-08/
LOCATION:St. Patrick Church of Merna\, 1001 N Towanda Barnes Rd\, Bloomington\, Illinois\, 61705\, United States
END:VEVENT
BEGIN:VEVENT
DTSTART;TZID=America/Chicago:20260615T113000
DTEND;TZID=America/Chicago:20260615T123000
DTSTAMP:20260422T104512
CREATED:20250716T195915Z
LAST-MODIFIED:20250716T195917Z
UID:10010507-1781523000-1781526600@www.mheparish.org
SUMMARY:Centering Prayer
DESCRIPTION:Room 11
URL:https://www.mheparish.org/calendar/centering-prayer-6/2026-06-15/
LOCATION:St. Patrick Church of Merna\, 1001 N Towanda Barnes Rd\, Bloomington\, Illinois\, 61705\, United States
END:VEVENT
BEGIN:VEVENT
DTSTART;TZID=America/Chicago:20260622T113000
DTEND;TZID=America/Chicago:20260622T123000
DTSTAMP:20260422T104512
CREATED:20250716T195915Z
LAST-MODIFIED:20250716T195917Z
UID:10010508-1782127800-1782131400@www.mheparish.org
SUMMARY:Centering Prayer
DESCRIPTION:Room 11
URL:https://www.mheparish.org/calendar/centering-prayer-6/2026-06-22/
LOCATION:St. Patrick Church of Merna\, 1001 N Towanda Barnes Rd\, Bloomington\, Illinois\, 61705\, United States
END:VEVENT
BEGIN:VEVENT
DTSTART;TZID=America/Chicago:20260629T113000
DTEND;TZID=America/Chicago:20260629T123000
DTSTAMP:20260422T104512
CREATED:20250716T195915Z
LAST-MODIFIED:20250716T195917Z
UID:10010509-1782732600-1782736200@www.mheparish.org
SUMMARY:Centering Prayer
DESCRIPTION:Room 11
URL:https://www.mheparish.org/calendar/centering-prayer-6/2026-06-29/
LOCATION:St. Patrick Church of Merna\, 1001 N Towanda Barnes Rd\, Bloomington\, Illinois\, 61705\, United States
END:VEVENT
BEGIN:VEVENT
DTSTART;TZID=America/Chicago:20260706T113000
DTEND;TZID=America/Chicago:20260706T123000
DTSTAMP:20260422T104512
CREATED:20250716T195915Z
LAST-MODIFIED:20250716T195917Z
UID:10010510-1783337400-1783341000@www.mheparish.org
SUMMARY:Centering Prayer
DESCRIPTION:Room 11
URL:https://www.mheparish.org/calendar/centering-prayer-6/2026-07-06/
LOCATION:St. Patrick Church of Merna\, 1001 N Towanda Barnes Rd\, Bloomington\, Illinois\, 61705\, United States
END:VEVENT
BEGIN:VEVENT
DTSTART;TZID=America/Chicago:20260713T113000
DTEND;TZID=America/Chicago:20260713T123000
DTSTAMP:20260422T104512
CREATED:20250716T195915Z
LAST-MODIFIED:20250716T195917Z
UID:10010511-1783942200-1783945800@www.mheparish.org
SUMMARY:Centering Prayer
DESCRIPTION:Room 11
URL:https://www.mheparish.org/calendar/centering-prayer-6/2026-07-13/
LOCATION:St. Patrick Church of Merna\, 1001 N Towanda Barnes Rd\, Bloomington\, Illinois\, 61705\, United States
END:VEVENT
BEGIN:VEVENT
DTSTART;TZID=America/Chicago:20260720T113000
DTEND;TZID=America/Chicago:20260720T123000
DTSTAMP:20260422T104512
CREATED:20250716T195915Z
LAST-MODIFIED:20250716T195917Z
UID:10010512-1784547000-1784550600@www.mheparish.org
SUMMARY:Centering Prayer
DESCRIPTION:Room 11
URL:https://www.mheparish.org/calendar/centering-prayer-6/2026-07-20/
LOCATION:St. Patrick Church of Merna\, 1001 N Towanda Barnes Rd\, Bloomington\, Illinois\, 61705\, United States
END:VEVENT
BEGIN:VEVENT
DTSTART;TZID=America/Chicago:20260727T113000
DTEND;TZID=America/Chicago:20260727T123000
DTSTAMP:20260422T104512
CREATED:20250716T195915Z
LAST-MODIFIED:20250716T195917Z
UID:10010513-1785151800-1785155400@www.mheparish.org
SUMMARY:Centering Prayer
DESCRIPTION:Room 11
URL:https://www.mheparish.org/calendar/centering-prayer-6/2026-07-27/
LOCATION:St. Patrick Church of Merna\, 1001 N Towanda Barnes Rd\, Bloomington\, Illinois\, 61705\, United States
END:VEVENT
BEGIN:VEVENT
DTSTART;TZID=America/Chicago:20260803T113000
DTEND;TZID=America/Chicago:20260803T123000
DTSTAMP:20260422T104512
CREATED:20250716T195915Z
LAST-MODIFIED:20250716T195917Z
UID:10010514-1785756600-1785760200@www.mheparish.org
SUMMARY:Centering Prayer
DESCRIPTION:Room 11
URL:https://www.mheparish.org/calendar/centering-prayer-6/2026-08-03/
LOCATION:St. Patrick Church of Merna\, 1001 N Towanda Barnes Rd\, Bloomington\, Illinois\, 61705\, United States
END:VEVENT
BEGIN:VEVENT
DTSTART;TZID=America/Chicago:20260810T113000
DTEND;TZID=America/Chicago:20260810T123000
DTSTAMP:20260422T104512
CREATED:20250716T195915Z
LAST-MODIFIED:20250716T195917Z
UID:10010515-1786361400-1786365000@www.mheparish.org
SUMMARY:Centering Prayer
DESCRIPTION:Room 11
URL:https://www.mheparish.org/calendar/centering-prayer-6/2026-08-10/
LOCATION:St. Patrick Church of Merna\, 1001 N Towanda Barnes Rd\, Bloomington\, Illinois\, 61705\, United States
END:VEVENT
BEGIN:VEVENT
DTSTART;TZID=America/Chicago:20260817T113000
DTEND;TZID=America/Chicago:20260817T123000
DTSTAMP:20260422T104512
CREATED:20250716T195915Z
LAST-MODIFIED:20250716T195917Z
UID:10010516-1786966200-1786969800@www.mheparish.org
SUMMARY:Centering Prayer
DESCRIPTION:Room 11
URL:https://www.mheparish.org/calendar/centering-prayer-6/2026-08-17/
LOCATION:St. Patrick Church of Merna\, 1001 N Towanda Barnes Rd\, Bloomington\, Illinois\, 61705\, United States
END:VEVENT
BEGIN:VEVENT
DTSTART;TZID=America/Chicago:20260824T113000
DTEND;TZID=America/Chicago:20260824T123000
DTSTAMP:20260422T104512
CREATED:20250716T195915Z
LAST-MODIFIED:20250716T195917Z
UID:10010517-1787571000-1787574600@www.mheparish.org
SUMMARY:Centering Prayer
DESCRIPTION:Room 11
URL:https://www.mheparish.org/calendar/centering-prayer-6/2026-08-24/
LOCATION:St. Patrick Church of Merna\, 1001 N Towanda Barnes Rd\, Bloomington\, Illinois\, 61705\, United States
END:VEVENT
BEGIN:VEVENT
DTSTART;TZID=America/Chicago:20260831T113000
DTEND;TZID=America/Chicago:20260831T123000
DTSTAMP:20260422T104512
CREATED:20250716T195915Z
LAST-MODIFIED:20250716T195917Z
UID:10010518-1788175800-1788179400@www.mheparish.org
SUMMARY:Centering Prayer
DESCRIPTION:Room 11
URL:https://www.mheparish.org/calendar/centering-prayer-6/2026-08-31/
LOCATION:St. Patrick Church of Merna\, 1001 N Towanda Barnes Rd\, Bloomington\, Illinois\, 61705\, United States
END:VEVENT
BEGIN:VEVENT
DTSTART;TZID=America/Chicago:20260907T113000
DTEND;TZID=America/Chicago:20260907T123000
DTSTAMP:20260422T104512
CREATED:20250716T195915Z
LAST-MODIFIED:20250716T195917Z
UID:10010519-1788780600-1788784200@www.mheparish.org
SUMMARY:Centering Prayer
DESCRIPTION:Room 11
URL:https://www.mheparish.org/calendar/centering-prayer-6/2026-09-07/
LOCATION:St. Patrick Church of Merna\, 1001 N Towanda Barnes Rd\, Bloomington\, Illinois\, 61705\, United States
END:VEVENT
BEGIN:VEVENT
DTSTART;TZID=America/Chicago:20260914T113000
DTEND;TZID=America/Chicago:20260914T123000
DTSTAMP:20260422T104512
CREATED:20250716T195915Z
LAST-MODIFIED:20250716T195917Z
UID:10010520-1789385400-1789389000@www.mheparish.org
SUMMARY:Centering Prayer
DESCRIPTION:Room 11
URL:https://www.mheparish.org/calendar/centering-prayer-6/2026-09-14/
LOCATION:St. Patrick Church of Merna\, 1001 N Towanda Barnes Rd\, Bloomington\, Illinois\, 61705\, United States
END:VEVENT
BEGIN:VEVENT
DTSTART;TZID=America/Chicago:20260921T113000
DTEND;TZID=America/Chicago:20260921T123000
DTSTAMP:20260422T104512
CREATED:20250716T195915Z
LAST-MODIFIED:20250716T195917Z
UID:10010521-1789990200-1789993800@www.mheparish.org
SUMMARY:Centering Prayer
DESCRIPTION:Room 11
URL:https://www.mheparish.org/calendar/centering-prayer-6/2026-09-21/
LOCATION:St. Patrick Church of Merna\, 1001 N Towanda Barnes Rd\, Bloomington\, Illinois\, 61705\, United States
END:VEVENT
BEGIN:VEVENT
DTSTART;TZID=America/Chicago:20260928T113000
DTEND;TZID=America/Chicago:20260928T123000
DTSTAMP:20260422T104512
CREATED:20250716T195915Z
LAST-MODIFIED:20250716T195917Z
UID:10010522-1790595000-1790598600@www.mheparish.org
SUMMARY:Centering Prayer
DESCRIPTION:Room 11
URL:https://www.mheparish.org/calendar/centering-prayer-6/2026-09-28/
LOCATION:St. Patrick Church of Merna\, 1001 N Towanda Barnes Rd\, Bloomington\, Illinois\, 61705\, United States
END:VEVENT
BEGIN:VEVENT
DTSTART;TZID=America/Chicago:20261005T113000
DTEND;TZID=America/Chicago:20261005T123000
DTSTAMP:20260422T104512
CREATED:20250716T195915Z
LAST-MODIFIED:20250716T195917Z
UID:10010523-1791199800-1791203400@www.mheparish.org
SUMMARY:Centering Prayer
DESCRIPTION:Room 11
URL:https://www.mheparish.org/calendar/centering-prayer-6/2026-10-05/
LOCATION:St. Patrick Church of Merna\, 1001 N Towanda Barnes Rd\, Bloomington\, Illinois\, 61705\, United States
END:VEVENT
BEGIN:VEVENT
DTSTART;TZID=America/Chicago:20261012T113000
DTEND;TZID=America/Chicago:20261012T123000
DTSTAMP:20260422T104512
CREATED:20250716T195915Z
LAST-MODIFIED:20250716T195917Z
UID:10010524-1791804600-1791808200@www.mheparish.org
SUMMARY:Centering Prayer
DESCRIPTION:Room 11
URL:https://www.mheparish.org/calendar/centering-prayer-6/2026-10-12/
LOCATION:St. Patrick Church of Merna\, 1001 N Towanda Barnes Rd\, Bloomington\, Illinois\, 61705\, United States
END:VEVENT
BEGIN:VEVENT
DTSTART;TZID=America/Chicago:20261019T113000
DTEND;TZID=America/Chicago:20261019T123000
DTSTAMP:20260422T104512
CREATED:20250716T195915Z
LAST-MODIFIED:20250716T195917Z
UID:10010525-1792409400-1792413000@www.mheparish.org
SUMMARY:Centering Prayer
DESCRIPTION:Room 11
URL:https://www.mheparish.org/calendar/centering-prayer-6/2026-10-19/
LOCATION:St. Patrick Church of Merna\, 1001 N Towanda Barnes Rd\, Bloomington\, Illinois\, 61705\, United States
END:VEVENT
BEGIN:VEVENT
DTSTART;TZID=America/Chicago:20261026T113000
DTEND;TZID=America/Chicago:20261026T123000
DTSTAMP:20260422T104512
CREATED:20250716T195915Z
LAST-MODIFIED:20250716T195917Z
UID:10010526-1793014200-1793017800@www.mheparish.org
SUMMARY:Centering Prayer
DESCRIPTION:Room 11
URL:https://www.mheparish.org/calendar/centering-prayer-6/2026-10-26/
LOCATION:St. Patrick Church of Merna\, 1001 N Towanda Barnes Rd\, Bloomington\, Illinois\, 61705\, United States
END:VEVENT
BEGIN:VEVENT
DTSTART;TZID=America/Chicago:20261102T113000
DTEND;TZID=America/Chicago:20261102T123000
DTSTAMP:20260422T104512
CREATED:20250716T195915Z
LAST-MODIFIED:20250716T195917Z
UID:10010527-1793619000-1793622600@www.mheparish.org
SUMMARY:Centering Prayer
DESCRIPTION:Room 11
URL:https://www.mheparish.org/calendar/centering-prayer-6/2026-11-02/
LOCATION:St. Patrick Church of Merna\, 1001 N Towanda Barnes Rd\, Bloomington\, Illinois\, 61705\, United States
END:VEVENT
BEGIN:VEVENT
DTSTART;TZID=America/Chicago:20261109T113000
DTEND;TZID=America/Chicago:20261109T123000
DTSTAMP:20260422T104512
CREATED:20250716T195915Z
LAST-MODIFIED:20250716T195917Z
UID:10010528-1794223800-1794227400@www.mheparish.org
SUMMARY:Centering Prayer
DESCRIPTION:Room 11
URL:https://www.mheparish.org/calendar/centering-prayer-6/2026-11-09/
LOCATION:St. Patrick Church of Merna\, 1001 N Towanda Barnes Rd\, Bloomington\, Illinois\, 61705\, United States
END:VEVENT
BEGIN:VEVENT
DTSTART;TZID=America/Chicago:20261116T113000
DTEND;TZID=America/Chicago:20261116T123000
DTSTAMP:20260422T104512
CREATED:20250716T195915Z
LAST-MODIFIED:20250716T195917Z
UID:10010529-1794828600-1794832200@www.mheparish.org
SUMMARY:Centering Prayer
DESCRIPTION:Room 11
URL:https://www.mheparish.org/calendar/centering-prayer-6/2026-11-16/
LOCATION:St. Patrick Church of Merna\, 1001 N Towanda Barnes Rd\, Bloomington\, Illinois\, 61705\, United States
END:VEVENT
END:VCALENDAR