BEGIN:VCALENDAR
VERSION:2.0
PRODID:-//Most Holy Eucharist - ECPv6.13.2.1//NONSGML v1.0//EN
CALSCALE:GREGORIAN
METHOD:PUBLISH
X-WR-CALNAME:Most Holy Eucharist
X-ORIGINAL-URL:https://www.mheparish.org
X-WR-CALDESC:Events for Most Holy Eucharist
REFRESH-INTERVAL;VALUE=DURATION:PT1H
X-Robots-Tag:noindex
X-PUBLISHED-TTL:PT1H
BEGIN:VTIMEZONE
TZID:America/Chicago
BEGIN:DAYLIGHT
TZOFFSETFROM:-0600
TZOFFSETTO:-0500
TZNAME:CDT
DTSTART:20260308T080000
END:DAYLIGHT
BEGIN:STANDARD
TZOFFSETFROM:-0500
TZOFFSETTO:-0600
TZNAME:CST
DTSTART:20261101T070000
END:STANDARD
BEGIN:DAYLIGHT
TZOFFSETFROM:-0600
TZOFFSETTO:-0500
TZNAME:CDT
DTSTART:20270314T080000
END:DAYLIGHT
BEGIN:STANDARD
TZOFFSETFROM:-0500
TZOFFSETTO:-0600
TZNAME:CST
DTSTART:20271107T070000
END:STANDARD
END:VTIMEZONE
BEGIN:VEVENT
DTSTART;TZID=America/Chicago:20261010T163000
DTEND;TZID=America/Chicago:20261010T173000
DTSTAMP:20260422T084112
CREATED:20250710T203412Z
LAST-MODIFIED:20250710T203414Z
UID:10006574-1791649800-1791653400@www.mheparish.org
SUMMARY:Weekend Mass at St. Mary's
DESCRIPTION:
URL:https://www.mheparish.org/calendar/weekend-mass-at-st-marys/2026-10-10/
LOCATION:St. Mary Church in Downs\, 108 E Washington St\, Downs\, Illinois\, 61736\, United States
END:VEVENT
BEGIN:VEVENT
DTSTART;TZID=America/Chicago:20261017T163000
DTEND;TZID=America/Chicago:20261017T173000
DTSTAMP:20260422T084112
CREATED:20250710T203412Z
LAST-MODIFIED:20250710T203414Z
UID:10006575-1792254600-1792258200@www.mheparish.org
SUMMARY:Weekend Mass at St. Mary's
DESCRIPTION:
URL:https://www.mheparish.org/calendar/weekend-mass-at-st-marys/2026-10-17/
LOCATION:St. Mary Church in Downs\, 108 E Washington St\, Downs\, Illinois\, 61736\, United States
END:VEVENT
BEGIN:VEVENT
DTSTART;TZID=America/Chicago:20261024T163000
DTEND;TZID=America/Chicago:20261024T173000
DTSTAMP:20260422T084112
CREATED:20250710T203412Z
LAST-MODIFIED:20250710T203414Z
UID:10006576-1792859400-1792863000@www.mheparish.org
SUMMARY:Weekend Mass at St. Mary's
DESCRIPTION:
URL:https://www.mheparish.org/calendar/weekend-mass-at-st-marys/2026-10-24/
LOCATION:St. Mary Church in Downs\, 108 E Washington St\, Downs\, Illinois\, 61736\, United States
END:VEVENT
BEGIN:VEVENT
DTSTART;TZID=America/Chicago:20261031T163000
DTEND;TZID=America/Chicago:20261031T173000
DTSTAMP:20260422T084112
CREATED:20250710T203412Z
LAST-MODIFIED:20250710T203414Z
UID:10006577-1793464200-1793467800@www.mheparish.org
SUMMARY:Weekend Mass at St. Mary's
DESCRIPTION:
URL:https://www.mheparish.org/calendar/weekend-mass-at-st-marys/2026-10-31/
LOCATION:St. Mary Church in Downs\, 108 E Washington St\, Downs\, Illinois\, 61736\, United States
END:VEVENT
BEGIN:VEVENT
DTSTART;TZID=America/Chicago:20261107T163000
DTEND;TZID=America/Chicago:20261107T173000
DTSTAMP:20260422T084112
CREATED:20250710T203412Z
LAST-MODIFIED:20250710T203414Z
UID:10006578-1794069000-1794072600@www.mheparish.org
SUMMARY:Weekend Mass at St. Mary's
DESCRIPTION:
URL:https://www.mheparish.org/calendar/weekend-mass-at-st-marys/2026-11-07/
LOCATION:St. Mary Church in Downs\, 108 E Washington St\, Downs\, Illinois\, 61736\, United States
END:VEVENT
BEGIN:VEVENT
DTSTART;TZID=America/Chicago:20261114T163000
DTEND;TZID=America/Chicago:20261114T173000
DTSTAMP:20260422T084112
CREATED:20250710T203412Z
LAST-MODIFIED:20250710T203414Z
UID:10006579-1794673800-1794677400@www.mheparish.org
SUMMARY:Weekend Mass at St. Mary's
DESCRIPTION:
URL:https://www.mheparish.org/calendar/weekend-mass-at-st-marys/2026-11-14/
LOCATION:St. Mary Church in Downs\, 108 E Washington St\, Downs\, Illinois\, 61736\, United States
END:VEVENT
BEGIN:VEVENT
DTSTART;TZID=America/Chicago:20261121T163000
DTEND;TZID=America/Chicago:20261121T173000
DTSTAMP:20260422T084112
CREATED:20250710T203412Z
LAST-MODIFIED:20250710T203414Z
UID:10006580-1795278600-1795282200@www.mheparish.org
SUMMARY:Weekend Mass at St. Mary's
DESCRIPTION:
URL:https://www.mheparish.org/calendar/weekend-mass-at-st-marys/2026-11-21/
LOCATION:St. Mary Church in Downs\, 108 E Washington St\, Downs\, Illinois\, 61736\, United States
END:VEVENT
BEGIN:VEVENT
DTSTART;TZID=America/Chicago:20261128T163000
DTEND;TZID=America/Chicago:20261128T173000
DTSTAMP:20260422T084112
CREATED:20250710T203412Z
LAST-MODIFIED:20250710T203414Z
UID:10006581-1795883400-1795887000@www.mheparish.org
SUMMARY:Weekend Mass at St. Mary's
DESCRIPTION:
URL:https://www.mheparish.org/calendar/weekend-mass-at-st-marys/2026-11-28/
LOCATION:St. Mary Church in Downs\, 108 E Washington St\, Downs\, Illinois\, 61736\, United States
END:VEVENT
BEGIN:VEVENT
DTSTART;TZID=America/Chicago:20261205T163000
DTEND;TZID=America/Chicago:20261205T173000
DTSTAMP:20260422T084112
CREATED:20250710T203412Z
LAST-MODIFIED:20250710T203414Z
UID:10006582-1796488200-1796491800@www.mheparish.org
SUMMARY:Weekend Mass at St. Mary's
DESCRIPTION:
URL:https://www.mheparish.org/calendar/weekend-mass-at-st-marys/2026-12-05/
LOCATION:St. Mary Church in Downs\, 108 E Washington St\, Downs\, Illinois\, 61736\, United States
END:VEVENT
BEGIN:VEVENT
DTSTART;TZID=America/Chicago:20261212T163000
DTEND;TZID=America/Chicago:20261212T173000
DTSTAMP:20260422T084112
CREATED:20250710T203412Z
LAST-MODIFIED:20250710T203414Z
UID:10006583-1797093000-1797096600@www.mheparish.org
SUMMARY:Weekend Mass at St. Mary's
DESCRIPTION:
URL:https://www.mheparish.org/calendar/weekend-mass-at-st-marys/2026-12-12/
LOCATION:St. Mary Church in Downs\, 108 E Washington St\, Downs\, Illinois\, 61736\, United States
END:VEVENT
BEGIN:VEVENT
DTSTART;TZID=America/Chicago:20261219T163000
DTEND;TZID=America/Chicago:20261219T173000
DTSTAMP:20260422T084112
CREATED:20250710T203412Z
LAST-MODIFIED:20250710T203414Z
UID:10006584-1797697800-1797701400@www.mheparish.org
SUMMARY:Weekend Mass at St. Mary's
DESCRIPTION:
URL:https://www.mheparish.org/calendar/weekend-mass-at-st-marys/2026-12-19/
LOCATION:St. Mary Church in Downs\, 108 E Washington St\, Downs\, Illinois\, 61736\, United States
END:VEVENT
BEGIN:VEVENT
DTSTART;TZID=America/Chicago:20261226T163000
DTEND;TZID=America/Chicago:20261226T173000
DTSTAMP:20260422T084112
CREATED:20250710T203412Z
LAST-MODIFIED:20250710T203414Z
UID:10006585-1798302600-1798306200@www.mheparish.org
SUMMARY:Weekend Mass at St. Mary's
DESCRIPTION:
URL:https://www.mheparish.org/calendar/weekend-mass-at-st-marys/2026-12-26/
LOCATION:St. Mary Church in Downs\, 108 E Washington St\, Downs\, Illinois\, 61736\, United States
END:VEVENT
BEGIN:VEVENT
DTSTART;TZID=America/Chicago:20270102T163000
DTEND;TZID=America/Chicago:20270102T173000
DTSTAMP:20260422T084112
CREATED:20250710T203412Z
LAST-MODIFIED:20250710T203414Z
UID:10006586-1798907400-1798911000@www.mheparish.org
SUMMARY:Weekend Mass at St. Mary's
DESCRIPTION:
URL:https://www.mheparish.org/calendar/weekend-mass-at-st-marys/2027-01-02/
LOCATION:St. Mary Church in Downs\, 108 E Washington St\, Downs\, Illinois\, 61736\, United States
END:VEVENT
BEGIN:VEVENT
DTSTART;TZID=America/Chicago:20270109T163000
DTEND;TZID=America/Chicago:20270109T173000
DTSTAMP:20260422T084112
CREATED:20250710T203412Z
LAST-MODIFIED:20250710T203414Z
UID:10006587-1799512200-1799515800@www.mheparish.org
SUMMARY:Weekend Mass at St. Mary's
DESCRIPTION:
URL:https://www.mheparish.org/calendar/weekend-mass-at-st-marys/2027-01-09/
LOCATION:St. Mary Church in Downs\, 108 E Washington St\, Downs\, Illinois\, 61736\, United States
END:VEVENT
BEGIN:VEVENT
DTSTART;TZID=America/Chicago:20270116T163000
DTEND;TZID=America/Chicago:20270116T173000
DTSTAMP:20260422T084112
CREATED:20250710T203412Z
LAST-MODIFIED:20250710T203414Z
UID:10006588-1800117000-1800120600@www.mheparish.org
SUMMARY:Weekend Mass at St. Mary's
DESCRIPTION:
URL:https://www.mheparish.org/calendar/weekend-mass-at-st-marys/2027-01-16/
LOCATION:St. Mary Church in Downs\, 108 E Washington St\, Downs\, Illinois\, 61736\, United States
END:VEVENT
BEGIN:VEVENT
DTSTART;TZID=America/Chicago:20270123T163000
DTEND;TZID=America/Chicago:20270123T173000
DTSTAMP:20260422T084112
CREATED:20250710T203412Z
LAST-MODIFIED:20250710T203414Z
UID:10006589-1800721800-1800725400@www.mheparish.org
SUMMARY:Weekend Mass at St. Mary's
DESCRIPTION:
URL:https://www.mheparish.org/calendar/weekend-mass-at-st-marys/2027-01-23/
LOCATION:St. Mary Church in Downs\, 108 E Washington St\, Downs\, Illinois\, 61736\, United States
END:VEVENT
BEGIN:VEVENT
DTSTART;TZID=America/Chicago:20270130T163000
DTEND;TZID=America/Chicago:20270130T173000
DTSTAMP:20260422T084112
CREATED:20250710T203412Z
LAST-MODIFIED:20250710T203414Z
UID:10006590-1801326600-1801330200@www.mheparish.org
SUMMARY:Weekend Mass at St. Mary's
DESCRIPTION:
URL:https://www.mheparish.org/calendar/weekend-mass-at-st-marys/2027-01-30/
LOCATION:St. Mary Church in Downs\, 108 E Washington St\, Downs\, Illinois\, 61736\, United States
END:VEVENT
BEGIN:VEVENT
DTSTART;TZID=America/Chicago:20270206T163000
DTEND;TZID=America/Chicago:20270206T173000
DTSTAMP:20260422T084112
CREATED:20250710T203412Z
LAST-MODIFIED:20250710T203414Z
UID:10006591-1801931400-1801935000@www.mheparish.org
SUMMARY:Weekend Mass at St. Mary's
DESCRIPTION:
URL:https://www.mheparish.org/calendar/weekend-mass-at-st-marys/2027-02-06/
LOCATION:St. Mary Church in Downs\, 108 E Washington St\, Downs\, Illinois\, 61736\, United States
END:VEVENT
BEGIN:VEVENT
DTSTART;TZID=America/Chicago:20270213T163000
DTEND;TZID=America/Chicago:20270213T173000
DTSTAMP:20260422T084112
CREATED:20250710T203412Z
LAST-MODIFIED:20250710T203414Z
UID:10006592-1802536200-1802539800@www.mheparish.org
SUMMARY:Weekend Mass at St. Mary's
DESCRIPTION:
URL:https://www.mheparish.org/calendar/weekend-mass-at-st-marys/2027-02-13/
LOCATION:St. Mary Church in Downs\, 108 E Washington St\, Downs\, Illinois\, 61736\, United States
END:VEVENT
BEGIN:VEVENT
DTSTART;TZID=America/Chicago:20270220T163000
DTEND;TZID=America/Chicago:20270220T173000
DTSTAMP:20260422T084112
CREATED:20250710T203412Z
LAST-MODIFIED:20250710T203414Z
UID:10006593-1803141000-1803144600@www.mheparish.org
SUMMARY:Weekend Mass at St. Mary's
DESCRIPTION:
URL:https://www.mheparish.org/calendar/weekend-mass-at-st-marys/2027-02-20/
LOCATION:St. Mary Church in Downs\, 108 E Washington St\, Downs\, Illinois\, 61736\, United States
END:VEVENT
BEGIN:VEVENT
DTSTART;TZID=America/Chicago:20270227T163000
DTEND;TZID=America/Chicago:20270227T173000
DTSTAMP:20260422T084112
CREATED:20250710T203412Z
LAST-MODIFIED:20250710T203414Z
UID:10006594-1803745800-1803749400@www.mheparish.org
SUMMARY:Weekend Mass at St. Mary's
DESCRIPTION:
URL:https://www.mheparish.org/calendar/weekend-mass-at-st-marys/2027-02-27/
LOCATION:St. Mary Church in Downs\, 108 E Washington St\, Downs\, Illinois\, 61736\, United States
END:VEVENT
BEGIN:VEVENT
DTSTART;TZID=America/Chicago:20270306T163000
DTEND;TZID=America/Chicago:20270306T173000
DTSTAMP:20260422T084112
CREATED:20250710T203412Z
LAST-MODIFIED:20250710T203414Z
UID:10006595-1804350600-1804354200@www.mheparish.org
SUMMARY:Weekend Mass at St. Mary's
DESCRIPTION:
URL:https://www.mheparish.org/calendar/weekend-mass-at-st-marys/2027-03-06/
LOCATION:St. Mary Church in Downs\, 108 E Washington St\, Downs\, Illinois\, 61736\, United States
END:VEVENT
BEGIN:VEVENT
DTSTART;TZID=America/Chicago:20270313T163000
DTEND;TZID=America/Chicago:20270313T173000
DTSTAMP:20260422T084112
CREATED:20250710T203412Z
LAST-MODIFIED:20250710T203414Z
UID:10006596-1804955400-1804959000@www.mheparish.org
SUMMARY:Weekend Mass at St. Mary's
DESCRIPTION:
URL:https://www.mheparish.org/calendar/weekend-mass-at-st-marys/2027-03-13/
LOCATION:St. Mary Church in Downs\, 108 E Washington St\, Downs\, Illinois\, 61736\, United States
END:VEVENT
BEGIN:VEVENT
DTSTART;TZID=America/Chicago:20270320T163000
DTEND;TZID=America/Chicago:20270320T173000
DTSTAMP:20260422T084112
CREATED:20250710T203412Z
LAST-MODIFIED:20250710T203414Z
UID:10006597-1805560200-1805563800@www.mheparish.org
SUMMARY:Weekend Mass at St. Mary's
DESCRIPTION:
URL:https://www.mheparish.org/calendar/weekend-mass-at-st-marys/2027-03-20/
LOCATION:St. Mary Church in Downs\, 108 E Washington St\, Downs\, Illinois\, 61736\, United States
END:VEVENT
BEGIN:VEVENT
DTSTART;TZID=America/Chicago:20270327T163000
DTEND;TZID=America/Chicago:20270327T173000
DTSTAMP:20260422T084112
CREATED:20250710T203412Z
LAST-MODIFIED:20250710T203414Z
UID:10006598-1806165000-1806168600@www.mheparish.org
SUMMARY:Weekend Mass at St. Mary's
DESCRIPTION:
URL:https://www.mheparish.org/calendar/weekend-mass-at-st-marys/2027-03-27/
LOCATION:St. Mary Church in Downs\, 108 E Washington St\, Downs\, Illinois\, 61736\, United States
END:VEVENT
BEGIN:VEVENT
DTSTART;TZID=America/Chicago:20270403T163000
DTEND;TZID=America/Chicago:20270403T173000
DTSTAMP:20260422T084112
CREATED:20250710T203412Z
LAST-MODIFIED:20250710T203414Z
UID:10006599-1806769800-1806773400@www.mheparish.org
SUMMARY:Weekend Mass at St. Mary's
DESCRIPTION:
URL:https://www.mheparish.org/calendar/weekend-mass-at-st-marys/2027-04-03/
LOCATION:St. Mary Church in Downs\, 108 E Washington St\, Downs\, Illinois\, 61736\, United States
END:VEVENT
BEGIN:VEVENT
DTSTART;TZID=America/Chicago:20270410T163000
DTEND;TZID=America/Chicago:20270410T173000
DTSTAMP:20260422T084112
CREATED:20250710T203412Z
LAST-MODIFIED:20250710T203414Z
UID:10006600-1807374600-1807378200@www.mheparish.org
SUMMARY:Weekend Mass at St. Mary's
DESCRIPTION:
URL:https://www.mheparish.org/calendar/weekend-mass-at-st-marys/2027-04-10/
LOCATION:St. Mary Church in Downs\, 108 E Washington St\, Downs\, Illinois\, 61736\, United States
END:VEVENT
BEGIN:VEVENT
DTSTART;TZID=America/Chicago:20270417T163000
DTEND;TZID=America/Chicago:20270417T173000
DTSTAMP:20260422T084112
CREATED:20250710T203412Z
LAST-MODIFIED:20250710T203414Z
UID:10006601-1807979400-1807983000@www.mheparish.org
SUMMARY:Weekend Mass at St. Mary's
DESCRIPTION:
URL:https://www.mheparish.org/calendar/weekend-mass-at-st-marys/2027-04-17/
LOCATION:St. Mary Church in Downs\, 108 E Washington St\, Downs\, Illinois\, 61736\, United States
END:VEVENT
BEGIN:VEVENT
DTSTART;TZID=America/Chicago:20270424T163000
DTEND;TZID=America/Chicago:20270424T173000
DTSTAMP:20260422T084112
CREATED:20250710T203412Z
LAST-MODIFIED:20250710T203414Z
UID:10006602-1808584200-1808587800@www.mheparish.org
SUMMARY:Weekend Mass at St. Mary's
DESCRIPTION:
URL:https://www.mheparish.org/calendar/weekend-mass-at-st-marys/2027-04-24/
LOCATION:St. Mary Church in Downs\, 108 E Washington St\, Downs\, Illinois\, 61736\, United States
END:VEVENT
BEGIN:VEVENT
DTSTART;TZID=America/Chicago:20270501T163000
DTEND;TZID=America/Chicago:20270501T173000
DTSTAMP:20260422T084112
CREATED:20250710T203412Z
LAST-MODIFIED:20250710T203414Z
UID:10006603-1809189000-1809192600@www.mheparish.org
SUMMARY:Weekend Mass at St. Mary's
DESCRIPTION:
URL:https://www.mheparish.org/calendar/weekend-mass-at-st-marys/2027-05-01/
LOCATION:St. Mary Church in Downs\, 108 E Washington St\, Downs\, Illinois\, 61736\, United States
END:VEVENT
END:VCALENDAR